BEGIN:VCALENDAR
VERSION:2.0
PRODID:-//FutureCite - ECPv6.15.20//NONSGML v1.0//EN
CALSCALE:GREGORIAN
METHOD:PUBLISH
X-WR-CALNAME:FutureCite
X-ORIGINAL-URL:https://demo.futurecite.ai
X-WR-CALDESC:Events for FutureCite
REFRESH-INTERVAL;VALUE=DURATION:PT1H
X-Robots-Tag:noindex
X-PUBLISHED-TTL:PT1H
BEGIN:VTIMEZONE
TZID:America/Edmonton
BEGIN:DAYLIGHT
TZOFFSETFROM:-0700
TZOFFSETTO:-0600
TZNAME:MDT
DTSTART:20190310T090000
END:DAYLIGHT
BEGIN:STANDARD
TZOFFSETFROM:-0600
TZOFFSETTO:-0700
TZNAME:MST
DTSTART:20191103T080000
END:STANDARD
BEGIN:DAYLIGHT
TZOFFSETFROM:-0700
TZOFFSETTO:-0600
TZNAME:MDT
DTSTART:20200308T090000
END:DAYLIGHT
BEGIN:STANDARD
TZOFFSETFROM:-0600
TZOFFSETTO:-0700
TZNAME:MST
DTSTART:20201101T080000
END:STANDARD
BEGIN:DAYLIGHT
TZOFFSETFROM:-0700
TZOFFSETTO:-0600
TZNAME:MDT
DTSTART:20210314T090000
END:DAYLIGHT
BEGIN:STANDARD
TZOFFSETFROM:-0600
TZOFFSETTO:-0700
TZNAME:MST
DTSTART:20211107T080000
END:STANDARD
BEGIN:DAYLIGHT
TZOFFSETFROM:-0700
TZOFFSETTO:-0600
TZNAME:MDT
DTSTART:20220313T090000
END:DAYLIGHT
BEGIN:STANDARD
TZOFFSETFROM:-0600
TZOFFSETTO:-0700
TZNAME:MST
DTSTART:20221106T080000
END:STANDARD
BEGIN:DAYLIGHT
TZOFFSETFROM:-0700
TZOFFSETTO:-0600
TZNAME:MDT
DTSTART:20230312T090000
END:DAYLIGHT
BEGIN:STANDARD
TZOFFSETFROM:-0600
TZOFFSETTO:-0700
TZNAME:MST
DTSTART:20231105T080000
END:STANDARD
END:VTIMEZONE
BEGIN:VTIMEZONE
TZID:America/Chicago
BEGIN:DAYLIGHT
TZOFFSETFROM:-0600
TZOFFSETTO:-0500
TZNAME:CDT
DTSTART:20190310T080000
END:DAYLIGHT
BEGIN:STANDARD
TZOFFSETFROM:-0500
TZOFFSETTO:-0600
TZNAME:CST
DTSTART:20191103T070000
END:STANDARD
BEGIN:DAYLIGHT
TZOFFSETFROM:-0600
TZOFFSETTO:-0500
TZNAME:CDT
DTSTART:20200308T080000
END:DAYLIGHT
BEGIN:STANDARD
TZOFFSETFROM:-0500
TZOFFSETTO:-0600
TZNAME:CST
DTSTART:20201101T070000
END:STANDARD
BEGIN:DAYLIGHT
TZOFFSETFROM:-0600
TZOFFSETTO:-0500
TZNAME:CDT
DTSTART:20210314T080000
END:DAYLIGHT
BEGIN:STANDARD
TZOFFSETFROM:-0500
TZOFFSETTO:-0600
TZNAME:CST
DTSTART:20211107T070000
END:STANDARD
END:VTIMEZONE
BEGIN:VEVENT
DTSTART;TZID=America/Edmonton:20221115T090000
DTEND;TZID=America/Edmonton:20221117T120000
DTSTAMP:20260423T131201
CREATED:20221108T083056Z
LAST-MODIFIED:20221108T083056Z
UID:17804-1668502800-1668686400@demo.futurecite.ai
SUMMARY:360 by Deloitte: Spotlight on digital transformation
DESCRIPTION:Build your tech-forward future\, and learn the latest from Canadian and global thought leaders\n\n\n\n\n\n\n\n\n\n\n\n\nRegister today and join public and private sector leaders from all over Canada\, as we uncover the issues\, trends\, disruptions\, and innovations in digital transformation. Get inspired from our keynotes and dive-deep into sessions from global thought leaders at the intersection of business strategy\, cloud\, AI\, and cybersecurity\, aimed to help accelerate and engineer your tech-forward future. \nGet inspired and connect with your peers \nConnect to the event in real-time to have the opportunity to interact directly with other attendees as well as with speakers. All sessions are recorded and available to registered participants at the conclusion of the conference. All registration is complimentary. \nNovember 15\, 2022 – November 17\, 2022\n9:00 a.m.-12:00 p.m.
URL:https://demo.futurecite.ai/event/360-by-deloitte-spotlight-on-digital-transformation/
LOCATION:Virtual Online
CATEGORIES:AI / ML / Data Science,BitCoin,Blockchain,Conference,Digital Transformation,Education,Industry,Innovation,Learning,Living,Technology,Webinar
ATTACH;FMTTYPE=image/jpeg:https://demo.futurecite.ai/wp-content/uploads/2022/11/360-oct-spotme-2-homefeedbanner.jpg
END:VEVENT
BEGIN:VEVENT
DTSTART;TZID=America/Edmonton:20220707T073000
DTEND;TZID=America/Edmonton:20220707T130000
DTSTAMP:20260423T131201
CREATED:20220617T052712Z
LAST-MODIFIED:20220617T052712Z
UID:17261-1657179000-1657198800@demo.futurecite.ai
SUMMARY:Bitcoin &  the Future Economy . An Exclusive Seminar with  Saifedean Ammous
DESCRIPTION:About this event\n\n\n\nIn 2021\, Bitcoin adoption skyrocketed  across the world’s banks\, corporations\, and governments – and this incredible rise to prominence in the global economy was long predicted by economist Dr. Saifedean Ammous\, one of the cryptocurrency’s premier thought leaders and author of best-selling book The Bitcoin Standard. \nAn internationally renowned speaker and expert on the evolution and importance of Bitcoin as a technological enabler of sound monetary policy\, Dr. Ammous will be providing an essential lesson on Bitcoin’s history\, economic theory\, and emerging applications at Bitcoin and the Future Economy\, an  exclusive Canadian Blockchain Consortium seminar. \nThe accelerating role of Bitcoin as a key part of banking\, commerce\, and energy profitability means that all leaders\, across the public and private sector\, urgently need to understand what this innovative technology means for  their business\, industry\, and policy development. \nDr. Ammous’s compelling presentations put Bitcoin in a historical and economic context that will help inform  effective business and government strategies in this new  digital economy. \nBreakfast and Lunch are included \n\n\n\nThu\, 7 July 2022 \n7:30 AM – 1:00 PM MDT \n\n\n\n\n\n\n\n 
URL:https://demo.futurecite.ai/event/bitcoin-the-future-economy-an-exclusive-seminar-with-saifedean-ammous/
LOCATION:Calgary Downtown Marriott Hotel
CATEGORIES:AI / ML / Data Science,BitCoin,Blockchain,Conference,Digital Transformation,Entrepreneurs,Learning,Technology
END:VEVENT
BEGIN:VEVENT
DTSTART;TZID=America/Edmonton:20220204T113000
DTEND;TZID=America/Edmonton:20220206T123000
DTSTAMP:20260423T131201
CREATED:20220104T081150Z
LAST-MODIFIED:20220104T081150Z
UID:16667-1643974200-1644150600@demo.futurecite.ai
SUMMARY:What is Bitcoin Class
DESCRIPTION:About this event\n\n\nBitcoin is a rare example where the first iteration of a technology has kept its dominance – it’s still by far the most successful use-case for blockchain technology. Why hasn’t bitcoin gone the way of MySpace? This special presentation is designed to help the average person understand what makes bitcoin especially important in these turbulent times.
URL:https://demo.futurecite.ai/event/what-is-bitcoin-class/
LOCATION:Virtual Online
CATEGORIES:AI / ML / Data Science,BitCoin,Blockchain,Education,Entrepreneurs,Innovation,Learning,Startups,Students,Technology,Webinar
END:VEVENT
BEGIN:VEVENT
DTSTART;TZID=America/Edmonton:20210610T130000
DTEND;TZID=America/Edmonton:20210610T150000
DTSTAMP:20260423T131202
CREATED:20210420T023646Z
LAST-MODIFIED:20210420T023646Z
UID:15712-1623330000-1623337200@demo.futurecite.ai
SUMMARY:Women in the New Economy: Crypto\, Blockchain\, NFTs
DESCRIPTION:Join the Canadian Blockchain Association for Women and ecosystem partners for an innovative virtual event\n\n\n\n\n\nAbout this Event\n\n\nJoin the Canadian Blockchain Association for Women and ecosystem partners for an innovative virtual event that showcases the opportunities for women in the emerging digital economy of crypto\, NFTs\, tokens and blockchain technology. \nCanada stands at the brink of an unprecedented technological shift that will change all aspects of our economy\, and diversity is the key its success. \nThe Canadian Blockchain Association for Women is hosting an event designed to build awareness of the opportunities for women in the digital economy and demystify participation in emerging growth areas like crypto\, NFTs\, and blockchain finance.
URL:https://demo.futurecite.ai/event/women-in-the-new-economy-crypto-blockchain-nfts/
LOCATION:Virtual Online
CATEGORIES:AI / ML / Data Science,BitCoin,Blockchain,Career Opportunities,Education,Entrepreneurs,Finance,Industry,Learning,Small Business,Startups,STEME,Technology,Webinar
END:VEVENT
BEGIN:VEVENT
DTSTART;TZID=America/Edmonton:20210520T140000
DTEND;TZID=America/Edmonton:20210520T150000
DTSTAMP:20260423T131202
CREATED:20210518T235001Z
LAST-MODIFIED:20210518T235001Z
UID:15790-1621519200-1621522800@demo.futurecite.ai
SUMMARY:Introduction to Cryptocurrencies
DESCRIPTION:Introduction to cryptocurrencies \nThursday\, May 20\, 2021 | 2:00 PM – 3:00 PM | WEBINAR \nIn this introductory talk\, participants will get to learn about the genesis of Bitcoin and the reasons behind its meteoric growth. The goal of this presentation is to establish key foundational understanding of the digital asset ecosystem. \nSpeaker: Q Rasi\, ATB Financial \nIn this introductory talk\, participants will get to learn about the genesis of Bitcoin and the reasons behind its meteoric growth. The goal of this presentation is to establish key foundational understanding of the digital asset ecosystem. \nPresenter \nQ Rasi\, ATB Financial \nQ Rasi is the Director of Advisory Solutions within ATB and helped in the development of ATB’s crypto compliance program back in 2017. Q is a former post doctoral fellow\, PhD and a MBA in finance. Q is actively involved in the crypto ecosystem and currently researching institutional opportunities in the DeFi ecosystem.
URL:https://demo.futurecite.ai/event/introduction-to-cryptocurrencies/
LOCATION:Virtual Online
CATEGORIES:AI / ML / Data Science,BitCoin,Blockchain,Digital Transformation,Technology,Webinar
END:VEVENT
BEGIN:VEVENT
DTSTART;TZID=America/Edmonton:20210302T113000
DTEND;TZID=America/Edmonton:20210302T123000
DTSTAMP:20260423T131202
CREATED:20210223T034000Z
LAST-MODIFIED:20210223T034000Z
UID:15316-1614684600-1614688200@demo.futurecite.ai
SUMMARY:Financial Action Task Force Travel Rule - unhosted wallets and the future of finance
DESCRIPTION:In our first FinTech Committee event\, The Canadian Blockchain Consortium will be bringing together industry experts for a panel discussion \n\n\nAbout this Event\n\n\nIn our first FinTech Committee event\, The Canadian Blockchain Consortium will be bringing together industry experts for a panel discussion on the Financial Action Task Force Travel Rule\, the ramifications of FinCEN’s proposed regulations related to unhosted wallets and the future of finance. \n\n\n\n\n\nTue\, March 2\, 2021 \n11:30 AM – 12:30 PM MST
URL:https://demo.futurecite.ai/event/financial-action-task-force-travel-rule-unhosted-wallets-and-the-future-of-finance/
LOCATION:Virtual Online
CATEGORIES:AI / ML / Data Science,BitCoin,Blockchain,Entrepreneurs,Technology,Webinar
END:VEVENT
BEGIN:VEVENT
DTSTART;TZID=America/Edmonton:20210128T113000
DTEND;TZID=America/Edmonton:20210128T123000
DTSTAMP:20260423T131202
CREATED:20210113T005348Z
LAST-MODIFIED:20210113T005348Z
UID:14958-1611833400-1611837000@demo.futurecite.ai
SUMMARY:What is BitCoin?
DESCRIPTION:About this Event\n\n\nBitcoin is a rare example where the first iteration of a technology has kept its dominance – it’s still by far the most successful use-case for blockchain technology. \nWhy hasn’t bitcoin gone the way of MySpace? \nThis special presentation is designed to help the average person understand what makes bitcoin especially important in these turbulent times. \nDate And Time\n\nThu\, January 28\, 2021 \n11:30 AM – 12:30 PM MST
URL:https://demo.futurecite.ai/event/what-is-bitcoin/
LOCATION:Virtual Online
CATEGORIES:AI / ML / Data Science,BitCoin,Blockchain,Courses,Entrepreneurs,Finance,Technology,Webinar
END:VEVENT
BEGIN:VEVENT
DTSTART;TZID=America/Edmonton:20200923T080000
DTEND;TZID=America/Edmonton:20200923T170000
DTSTAMP:20260423T131202
CREATED:20200916T063045Z
LAST-MODIFIED:20200916T064823Z
UID:14081-1600848000-1600880400@demo.futurecite.ai
SUMMARY:REACTOR It - Answers Questions from Entrepreneurs
DESCRIPTION:Having difficulty navigating the strategic direction of your startup? Get the answers to your burning questions regarding Cryptocurrencies\, machine learning\, info security\, mobile and more! Chat with Raymond Ball and Greg Bates from React0r IT. \nGreg and Ray will be available for 2-on-1 meetings with entrepreneurs that are looking for advice on researching\, planning and building their next innovation. \nBring your questions on topics such as: \n\n\nHow to identify your customer’s pain points \n\n\nHow to navigate problems you are encountering \n\n\nResearch\, Development and project management \n\n\nPlanning your next pivot or project \n\n\nFeatured Speakers: \nRaymond Ball \nRaymond is currently the CEO of react0r.com\, a privately run digital tech research and development company. This current endeavour was afforded to him after building and selling an exciting multi-million-dollar tech startup. Raymond also organizes several other not-for-profit projects such as c0wsec\, a growing infosec meetup in Calgary. He’s completed a B.Sc. in Computer Engineering and an M.Sc. in Electrical Engineering. Raymond’s generally interested in thought-provoking and disruptive ideas. Topics of interest to him include mathematics\, cryptocurrencies\, machine learning\, information security\, and philosophy. \nFor a sense of leadership style\, Raymond’s a dreamer\, an idealist\, a sceptic\, and a realist (but all in a good way\, of course!). He also believes that honesty is key to building relationships\, even if it creates a few bumps along the way. \nGreg Bates \nGreg brings over 30 years of sales and marketing experience to React0r.com. He has specialized in the sale of software solutions\, technology and professional services. From payroll\, financial solutions and IT infrastructure\, Greg is passionate about creating a collaborative environment that helps organizations improve their workflow and effectiveness while simplifying their efforts and processes. \nGreg also enjoys creating marketing campaigns and events that bring different organizations together to solve business challenges. Greg joined React0r.com to help tech startups realize their vision and them drive towards success. \nGreg believes that the best solutions come through collaboration and “what if” conversations. \n\n\n\n\n\nGreg believes that the best solutions come through collaboration and “what if” conversations. \n\n\n\n\nbook office hours\n\n\n\n\n\n\n 
URL:https://demo.futurecite.ai/event/having-difficulty-navigating-the-strategic-direction-of-your-startup-get-the-answers-to-your-burning-questions/
LOCATION:Virtual Online
CATEGORIES:AI / ML / Data Science,BitCoin,Blockchain,Entrepreneurs,Innovation,Learning,Research,Technology
END:VEVENT
BEGIN:VEVENT
DTSTART;TZID=America/Chicago:20200526T080000
DTEND;TZID=America/Chicago:20200526T170000
DTSTAMP:20260423T131202
CREATED:20200526T232156Z
LAST-MODIFIED:20200526T232156Z
UID:10455-1590480000-1590512400@demo.futurecite.ai
SUMMARY:Why hasn't bitcoin gone the way of MySpace?
DESCRIPTION:Canada Blockchain Consortium \nWe are excited to announce our next event on Thursday\, May 28th at 11:30 AM MST. Please join our incredible speakers for a discussion on Understanding Bitcoin: The Worlds First Digital Currency \nBitcoin is a rare example where the first iteration of a technology has kept its dominance – it’s still by far the most successful use-case for blockchain technology. Why hasn’t bitcoin gone the way of MySpace? This special presentation is designed to help the average person understand what makes bitcoin especially important in these turbulent times \nOn Thursday\, May 28th at 11:30 AM MST. Please join our incredible speakers for a discussion on Understanding Bitcoin
URL:https://demo.futurecite.ai/event/why-hasnt-bitcoin-gone-the-way-of-myspace/
LOCATION:Canada Blockchain Consortium
CATEGORIES:BitCoin,Blockchain,Education,Industry,Networking,Technology,Webinar
END:VEVENT
BEGIN:VEVENT
DTSTART;TZID=America/Edmonton:20200430T110000
DTEND;TZID=America/Edmonton:20200430T120000
DTSTAMP:20260423T131202
CREATED:20200421T205156Z
LAST-MODIFIED:20200421T205156Z
UID:10330-1588244400-1588248000@demo.futurecite.ai
SUMMARY:Trust in Transactions: Security & Digital Currency Exchanges
DESCRIPTION:About this Event\n\n\nMajor security and privacy breaches in the world of digital currency exchanges have cost consumers hundreds of millions of dollars\, exposed sensitive information and eroded public trust. However\, this emerging branch of fintech is undergoing a necessary transformation towards safer and more trustworthy exchanges with enhanced cybersecurity and new regulatory oversight for laws like AML and KYC. As more people begin to explore the advantages of digital currencies\, its markets are becoming increasingly standardized\, compliant and secure. A panel of government advisors\, exchange owners and experts will explain how the sector is quickly evolving from the Wild West to something much more like Wall Street. \n 
URL:https://demo.futurecite.ai/event/trust-in-transactions-security-digital-currency-exchanges/
LOCATION:Virtual Online
CATEGORIES:BitCoin,Blockchain,Digital Transformation,Entrepreneurs,Governance,Regulatory,Webinar
END:VEVENT
BEGIN:VEVENT
DTSTART;TZID=America/Edmonton:20200430T110000
DTEND;TZID=America/Edmonton:20200430T120000
DTSTAMP:20260423T131202
CREATED:20200421T205156Z
LAST-MODIFIED:20200421T205156Z
UID:13900-1588244400-1588248000@demo.futurecite.ai
SUMMARY:Trust in Transactions: Security & Digital Currency Exchanges
DESCRIPTION:About this Event\n\n\nMajor security and privacy breaches in the world of digital currency exchanges have cost consumers hundreds of millions of dollars\, exposed sensitive information and eroded public trust. However\, this emerging branch of fintech is undergoing a necessary transformation towards safer and more trustworthy exchanges with enhanced cybersecurity and new regulatory oversight for laws like AML and KYC. As more people begin to explore the advantages of digital currencies\, its markets are becoming increasingly standardized\, compliant and secure. A panel of government advisors\, exchange owners and experts will explain how the sector is quickly evolving from the Wild West to something much more like Wall Street. \n 
URL:https://demo.futurecite.ai/event/trust-in-transactions-security-digital-currency-exchanges-2/
LOCATION:Virtual Online
CATEGORIES:BitCoin,Blockchain,Digital Transformation,Entrepreneurs,Governance,Regulatory,Webinar
END:VEVENT
BEGIN:VEVENT
DTSTART;TZID=America/Edmonton:20200128T120000
DTEND;TZID=America/Edmonton:20200128T130000
DTSTAMP:20260423T131202
CREATED:20200120T081410Z
LAST-MODIFIED:20200120T081410Z
UID:9842-1580212800-1580216400@demo.futurecite.ai
SUMMARY:Understand Bitcoin Fundamentals\, & Foundations of What Blockchain Can & Can’t Do
DESCRIPTION:Bitcoin is a complex and confusing topic\, which calls into question the very idea of what money is and how it functions. If you are curious about Bitcoin and blockchain technology but have been too intimidated to dive in because of the excessive amount of information available\, this presentation is for you. Build a foundational knowledge of the problems that Bitcoin does (and doesn’t) solve\, and arm yourself with a healthy skeptical mind to avoid falling prey to the pitfalls of blockchain hype and buzzwords. \nAbout the Speaker: \nBen Perrin is host of the BTC Sessions – Canada’s most popular educational YouTube channel on Bitcoin. Since 2016 Ben has amassed a following of 30\,000 subscribers and over 2.5 million views across all his content. He has been featured locally on CTV and Global\, as well as numerous industry podcasts/publications like Crush The Street\, Bloxlive TV and more. When he’s not creating content for his YouTube channel\, or hosting educational workshops like this\, Ben spends his time working as marketing director for Canada’s Bitcoin company – \nBull Bitcoin.
URL:https://demo.futurecite.ai/event/understand-bitcoin-fundamentals-foundations-of-what-blockchain-can-cant-do/
LOCATION:ATB Entrepreneur Centre YEG\, 4234 Calgary Trail NW\,\, Edmonton\, Alberta\, T6J 6Y8\, Canada
CATEGORIES:AI / ML / Data Science,BitCoin,Blockchain,Economy,Entrepreneurs,Finance,Industry,Learning,Small Business,Technology
END:VEVENT
BEGIN:VEVENT
DTSTART;TZID=America/Edmonton:20200128T120000
DTEND;TZID=America/Edmonton:20200128T130000
DTSTAMP:20260423T131202
CREATED:20200120T081410Z
LAST-MODIFIED:20200120T081410Z
UID:13882-1580212800-1580216400@demo.futurecite.ai
SUMMARY:Understand Bitcoin Fundamentals\, & Foundations of What Blockchain Can & Can’t Do
DESCRIPTION:Bitcoin is a complex and confusing topic\, which calls into question the very idea of what money is and how it functions. If you are curious about Bitcoin and blockchain technology but have been too intimidated to dive in because of the excessive amount of information available\, this presentation is for you. Build a foundational knowledge of the problems that Bitcoin does (and doesn’t) solve\, and arm yourself with a healthy skeptical mind to avoid falling prey to the pitfalls of blockchain hype and buzzwords. \nAbout the Speaker: \nBen Perrin is host of the BTC Sessions – Canada’s most popular educational YouTube channel on Bitcoin. Since 2016 Ben has amassed a following of 30\,000 subscribers and over 2.5 million views across all his content. He has been featured locally on CTV and Global\, as well as numerous industry podcasts/publications like Crush The Street\, Bloxlive TV and more. When he’s not creating content for his YouTube channel\, or hosting educational workshops like this\, Ben spends his time working as marketing director for Canada’s Bitcoin company – \nBull Bitcoin.
URL:https://demo.futurecite.ai/event/understand-bitcoin-fundamentals-foundations-of-what-blockchain-can-cant-do-2/
LOCATION:ATB Entrepreneur Centre YEG\, 4234 Calgary Trail NW\,\, Edmonton\, Alberta\, T6J 6Y8\, Canada
CATEGORIES:AI / ML / Data Science,BitCoin,Blockchain,Economy,Entrepreneurs,Finance,Industry,Learning,Small Business,Technology
END:VEVENT
END:VCALENDAR