BEGIN:VCALENDAR
VERSION:2.0
PRODID:-//FutureCite - ECPv6.15.20//NONSGML v1.0//EN
CALSCALE:GREGORIAN
METHOD:PUBLISH
X-WR-CALNAME:FutureCite
X-ORIGINAL-URL:https://demo.futurecite.ai
X-WR-CALDESC:Events for FutureCite
REFRESH-INTERVAL;VALUE=DURATION:PT1H
X-Robots-Tag:noindex
X-PUBLISHED-TTL:PT1H
BEGIN:VTIMEZONE
TZID:America/Edmonton
BEGIN:DAYLIGHT
TZOFFSETFROM:-0700
TZOFFSETTO:-0600
TZNAME:MDT
DTSTART:20190310T090000
END:DAYLIGHT
BEGIN:STANDARD
TZOFFSETFROM:-0600
TZOFFSETTO:-0700
TZNAME:MST
DTSTART:20191103T080000
END:STANDARD
BEGIN:DAYLIGHT
TZOFFSETFROM:-0700
TZOFFSETTO:-0600
TZNAME:MDT
DTSTART:20200308T090000
END:DAYLIGHT
BEGIN:STANDARD
TZOFFSETFROM:-0600
TZOFFSETTO:-0700
TZNAME:MST
DTSTART:20201101T080000
END:STANDARD
BEGIN:DAYLIGHT
TZOFFSETFROM:-0700
TZOFFSETTO:-0600
TZNAME:MDT
DTSTART:20210314T090000
END:DAYLIGHT
BEGIN:STANDARD
TZOFFSETFROM:-0600
TZOFFSETTO:-0700
TZNAME:MST
DTSTART:20211107T080000
END:STANDARD
END:VTIMEZONE
BEGIN:VEVENT
DTSTART;TZID=America/Edmonton:20200128T120000
DTEND;TZID=America/Edmonton:20200128T130000
DTSTAMP:20260422T095203
CREATED:20200120T081410Z
LAST-MODIFIED:20200120T081410Z
UID:13882-1580212800-1580216400@demo.futurecite.ai
SUMMARY:Understand Bitcoin Fundamentals\, & Foundations of What Blockchain Can & Can’t Do
DESCRIPTION:Bitcoin is a complex and confusing topic\, which calls into question the very idea of what money is and how it functions. If you are curious about Bitcoin and blockchain technology but have been too intimidated to dive in because of the excessive amount of information available\, this presentation is for you. Build a foundational knowledge of the problems that Bitcoin does (and doesn’t) solve\, and arm yourself with a healthy skeptical mind to avoid falling prey to the pitfalls of blockchain hype and buzzwords. \nAbout the Speaker: \nBen Perrin is host of the BTC Sessions – Canada’s most popular educational YouTube channel on Bitcoin. Since 2016 Ben has amassed a following of 30\,000 subscribers and over 2.5 million views across all his content. He has been featured locally on CTV and Global\, as well as numerous industry podcasts/publications like Crush The Street\, Bloxlive TV and more. When he’s not creating content for his YouTube channel\, or hosting educational workshops like this\, Ben spends his time working as marketing director for Canada’s Bitcoin company – \nBull Bitcoin.
URL:https://demo.futurecite.ai/event/understand-bitcoin-fundamentals-foundations-of-what-blockchain-can-cant-do-2/
LOCATION:ATB Entrepreneur Centre YEG\, 4234 Calgary Trail NW\,\, Edmonton\, Alberta\, T6J 6Y8\, Canada
CATEGORIES:AI / ML / Data Science,BitCoin,Blockchain,Economy,Entrepreneurs,Finance,Industry,Learning,Small Business,Technology
END:VEVENT
END:VCALENDAR