BEGIN:VCALENDAR
VERSION:2.0
PRODID:-//FutureCite - ECPv6.15.20//NONSGML v1.0//EN
CALSCALE:GREGORIAN
METHOD:PUBLISH
X-WR-CALNAME:FutureCite
X-ORIGINAL-URL:https://demo.futurecite.ai
X-WR-CALDESC:Events for FutureCite
REFRESH-INTERVAL;VALUE=DURATION:PT1H
X-Robots-Tag:noindex
X-PUBLISHED-TTL:PT1H
BEGIN:VTIMEZONE
TZID:America/Edmonton
BEGIN:DAYLIGHT
TZOFFSETFROM:-0700
TZOFFSETTO:-0600
TZNAME:MDT
DTSTART:20200308T090000
END:DAYLIGHT
BEGIN:STANDARD
TZOFFSETFROM:-0600
TZOFFSETTO:-0700
TZNAME:MST
DTSTART:20201101T080000
END:STANDARD
BEGIN:DAYLIGHT
TZOFFSETFROM:-0700
TZOFFSETTO:-0600
TZNAME:MDT
DTSTART:20210314T090000
END:DAYLIGHT
BEGIN:STANDARD
TZOFFSETFROM:-0600
TZOFFSETTO:-0700
TZNAME:MST
DTSTART:20211107T080000
END:STANDARD
BEGIN:DAYLIGHT
TZOFFSETFROM:-0700
TZOFFSETTO:-0600
TZNAME:MDT
DTSTART:20220313T090000
END:DAYLIGHT
BEGIN:STANDARD
TZOFFSETFROM:-0600
TZOFFSETTO:-0700
TZNAME:MST
DTSTART:20221106T080000
END:STANDARD
END:VTIMEZONE
BEGIN:VEVENT
DTSTART;TZID=America/Edmonton:20210309T090000
DTEND;TZID=America/Edmonton:20210309T103000
DTSTAMP:20260422T235015
CREATED:20210215T234242Z
LAST-MODIFIED:20210215T234242Z
UID:15258-1615280400-1615285800@demo.futurecite.ai
SUMMARY:Inventures Unbound: Small Nuclear Reactors: Let’s Talk Community – and Connect with Stakeholders
DESCRIPTION:Small Modular Reactors \nFeb. 16 – Small Modular Reactors 101\nFeb. 23 – Bright Spots\, Innovation and Provincial Collaboration\nMarch 2 – Let’s Talk Tech – A Deep Dive on SMR Technologies\nMarch 9 – Let’s Talk Community – and Connect with Stakeholders \nAlberta Innovates is presenting the Small Modular Reactor Learning Series as an opportunity to learn about new nuclear technology\, the national action plan\, safety and regulations\, innovation in Canada’s nuclear industry and to better understand the latest technology supply chain. \nThis four-part virtual webinar series is open to anyone who wants to learn about these topics. The event will take place over four consecutive Tuesdays
URL:https://demo.futurecite.ai/event/inventures-unbound-small-nuclear-reactors-lets-talk-community-and-connect-with-stakeholders/
LOCATION:Virtual Online
CATEGORIES:CleanTech,Community Planning,Energy,Industry,Innovation,Marketing,Networking,Social Innovation,Sustainability,Technology,Webinar
END:VEVENT
BEGIN:VEVENT
DTSTART;TZID=America/Edmonton:20210302T090000
DTEND;TZID=America/Edmonton:20210302T103000
DTSTAMP:20260422T235015
CREATED:20210215T233943Z
LAST-MODIFIED:20210215T233943Z
UID:15256-1614675600-1614681000@demo.futurecite.ai
SUMMARY:Inventures Unbound: Small Nuclear Reactors: Let’s Talk Tech – A Deep Dive on SMR Technologies
DESCRIPTION:Small Modular Reactors \nFeb. 16 – Small Modular Reactors 101\nFeb. 23 – Bright Spots\, Innovation and Provincial Collaboration\nMarch 2 – Let’s Talk Tech – A Deep Dive on SMR Technologies\nMarch 9 – Let’s Talk Community – and Connect with Stakeholders \nAlberta Innovates is presenting the Small Modular Reactor Learning Series as an opportunity to learn about new nuclear technology\, the national action plan\, safety and regulations\, innovation in Canada’s nuclear industry and to better understand the latest technology supply chain. \nThis four-part virtual webinar series is open to anyone who wants to learn about these topics. The event will take place over four consecutive Tuesdays
URL:https://demo.futurecite.ai/event/inventures-unbound-small-nuclear-reactors-lets-talk-tech-a-deep-dive-on-smr-technologies/
LOCATION:Virtual Online
CATEGORIES:CleanTech,Energy,Industry,Learning,Sustainability,Technology,Webinar
END:VEVENT
BEGIN:VEVENT
DTSTART;TZID=America/Edmonton:20210223T090000
DTEND;TZID=America/Edmonton:20210223T103000
DTSTAMP:20260422T235015
CREATED:20210215T233702Z
LAST-MODIFIED:20210215T233702Z
UID:15254-1614070800-1614076200@demo.futurecite.ai
SUMMARY:Inventures Unbound: Small Nuclear Reactors: Bright Spots\, Innovation & Collaboration
DESCRIPTION:Small Modular Reactors \nFeb. 16 – Small Modular Reactors 101\nFeb. 23 – Bright Spots\, Innovation and Provincial Collaboration\nMarch 2 – Let’s Talk Tech – A Deep Dive on SMR Technologies\nMarch 9 – Let’s Talk Community – and Connect with Stakeholders \nAlberta Innovates is presenting the Small Modular Reactor Learning Series as an opportunity to learn about new nuclear technology\, the national action plan\, safety and regulations\, innovation in Canada’s nuclear industry and to better understand the latest technology supply chain. \nThis four-part virtual webinar series is open to anyone who wants to learn about these topics. The event will take place over four consecutive Tuesdays
URL:https://demo.futurecite.ai/event/inventures-unbound-small-nuclear-reactors-bright-spots-innovation-collaboration/
LOCATION:Virtual Online
CATEGORIES:CleanTech,Energy,Entrepreneurs,Industry,Innovation,Learning,Sustainability,Technology,Webinar
END:VEVENT
BEGIN:VEVENT
DTSTART;TZID=America/Edmonton:20210218T083000
DTEND;TZID=America/Edmonton:20210218T093000
DTSTAMP:20260422T235015
CREATED:20210203T205404Z
LAST-MODIFIED:20210203T205545Z
UID:15110-1613637000-1613640600@demo.futurecite.ai
SUMMARY:Masterclass on Cleantech Investing
DESCRIPTION:Join us for this masterclass on cleantech investing by some of Canada’s leading investors.\n\n\n\n\n\nAbout this Event\n\n\nAre you looking into investing in cleantech or building a cleantech company? \nAs part of the Alberta Cleantech Investment Summit event line-up\, grab a cup of coffee and join our event partners and participating angels and ventures\, for insight into how seasoned VCs assess cleantech ventures for investment. Join our expert panelists as they share lessons they have learned from their experience in putting capital to work building great companies in this sector. The two masterclass sessions will be held on Feb 11 and Feb 18\, from 8:30am-9:30am MST. \nWe will cover topics such as: \n\nHow do you select viable cleantech ventures?\nWhat is distinct about investing in cleantech companies?\nWhat makes someone a ‘good’ angel investor\n\nFebruary 11th\, 8:30am – 9:30am MST \n\nHosted by Jeanette Jackson\, CEO of Foresight\n\nFeaturing: \n\nJuan Benitez\, BDC Industrial Innovation Fund\nHa Nguyen\, McRock Capital\n\nFebruary 18th\, 8:30am – 9:30 MST \n\nHosted by Jeanette Jackson\, CEO of Foresight\n\nFeaturing: \n\nDarren Bolding\, Natural Products Canada\nMarty Reed\, Evok Innovations
URL:https://demo.futurecite.ai/event/masterclass-on-cleantech-investing-2/
LOCATION:Virtual Online
CATEGORIES:Agriculture,AI / ML / Data Science,CleanTech,Courses,Education,Energy,Entrepreneurs,Innovation,Investment,Small Business,STEME,Sustainability,Technology,Webinar
END:VEVENT
BEGIN:VEVENT
DTSTART;TZID=America/Edmonton:20210216T090000
DTEND;TZID=America/Edmonton:20210216T103000
DTSTAMP:20260422T235015
CREATED:20210215T233336Z
LAST-MODIFIED:20210215T233336Z
UID:15252-1613466000-1613471400@demo.futurecite.ai
SUMMARY:Inventures Unbound: Learn How Series: Small Nuclear Reactors 101
DESCRIPTION:Small Modular Reactors \nFeb. 16 – Small Modular Reactors 101\nFeb. 23 – Bright Spots\, Innovation and Provincial Collaboration\nMarch 2 – Let’s Talk Tech – A Deep Dive on SMR Technologies\nMarch 9 – Let’s Talk Community – and Connect with Stakeholders \nAlberta Innovates is presenting the Small Modular Reactor Learning Series as an opportunity to learn about new nuclear technology\, the national action plan\, safety and regulations\, innovation in Canada’s nuclear industry and to better understand the latest technology supply chain. \nThis four-part virtual webinar series is open to anyone who wants to learn about these topics. The event will take place over four consecutive Tuesdays
URL:https://demo.futurecite.ai/event/inventures-unbound-learn-how-series-small-nuclear-reactors-101/
LOCATION:Virtual Online
CATEGORIES:CleanTech,Education,Entrepreneurs,Industry,Innovation,Learning,Sustainability,Technology,Webinar
END:VEVENT
BEGIN:VEVENT
DTSTART;TZID=America/Edmonton:20210211T170000
DTEND;TZID=America/Edmonton:20210211T180000
DTSTAMP:20260422T235015
CREATED:20210203T203701Z
LAST-MODIFIED:20210203T203701Z
UID:15103-1613062800-1613066400@demo.futurecite.ai
SUMMARY:The Alberta Cleantech Investment Summit
DESCRIPTION:Come and get to know the top 20 companies\, cheer them on\, ask them questions\, then have a beer together!\n\n\n\n\n\nAbout this Event\n\n\nThe Alberta Cleantech Investment Summit is on now\, and we’re raising $100\,000+ for a local company while also training new investors to become confident angels. \nAs part of the due diligence process\, and to show everyone the great companies that we have growing in Alberta\, the top 20 companies will get 3 minutes to pitch to the investors in a public virtual forum on Feb 4th and 11th. Each night 10 companies will pitch. Make sure to register for both nights! \nFeb 4th \n\nCarbonova\nWinecrush Tech.\nWA-VE\nEZ Ops\nZS2 Technologies\nZILA Works\nRuth\nThe Harvest Hub\nVermillion Power Tech.\nCeres Solutions\n\nFeb 11th \n\nAqua Pure Tech.\nDrishya AI Labs\nEnviCore\nWyvern\nSeeO2 Energy\nREVOLUTION Turbine Tech.\nSolarSteam\nGru Organics\nNanode Battery Tech.\nCleanO2 Carbon Capture Tech.\n\nCome support these incredible companies being built right here at home! After the event everyone will have the chance to join our virtual happy hour on Discord and chat with the entrepreneurs and investors. \n\n\n\nAbout the summit \nOur investment summits provide a fun\, approachable way to become an angel investor or to raise capital for your early-stage tech startup. It’s equal parts fundraising\, educating and community building.
URL:https://demo.futurecite.ai/event/the-alberta-cleantech-investment-summit/
LOCATION:Virtual Online
CATEGORIES:Agriculture,AI / ML / Data Science,CleanTech,Entrepreneurs,Innovation,Networking,Pitch Competition,Small Business,STEME,Sustainability,Technology,Webinar
ORGANIZER;CN="TNT":MAILTO:zstorms@ualberta.ca
END:VEVENT
BEGIN:VEVENT
DTSTART;TZID=America/Edmonton:20210211T083000
DTEND;TZID=America/Edmonton:20210211T090000
DTSTAMP:20260422T235015
CREATED:20210203T205032Z
LAST-MODIFIED:20210203T205032Z
UID:15107-1613032200-1613034000@demo.futurecite.ai
SUMMARY:Masterclass on Cleantech Investing
DESCRIPTION:Join us for this masterclass on cleantech investing by some of Canada’s leading investors.\n\n\n\n\n\nAbout this Event\n\n\nAre you looking into investing in cleantech or building a cleantech company? \nAs part of the Alberta Cleantech Investment Summit event line-up\, grab a cup of coffee and join our event partners and participating angels and ventures\, for insight into how seasoned VCs assess cleantech ventures for investment. Join our expert panelists as they share lessons they have learned from their experience in putting capital to work building great companies in this sector. The two masterclass sessions will be held on Feb 11 and Feb 18\, from 8:30am-9:30am MST. \nWe will cover topics such as: \n\nHow do you select viable cleantech ventures?\nWhat is distinct about investing in cleantech companies?\nWhat makes someone a ‘good’ angel investor\n\n— \nFebruary 11th\, 8:30am – 9:30am MST \n\nHosted by Jeanette Jackson\, CEO of Foresight\n\nFeaturing: \n\nJuan Benitez\, BDC Industrial Innovation Fund\nHa Nguyen\, McRock Capital\n\n— \nFebruary 18th\, 8:30am – 9:30 MST \n\nHosted by Jeanette Jackson\, CEO of Foresight\n\nFeaturing: \n\nDarren Bolding\, Natural Products Canada\nMarty Reed\, Evok Innovations\n\n—
URL:https://demo.futurecite.ai/event/masterclass-on-cleantech-investing/
LOCATION:Virtual Online
CATEGORIES:Agriculture,CleanTech,Courses,Education,Energy,Entrepreneurs,Finance,Investment,Learning,Small Business,Technology,Webinar
END:VEVENT
BEGIN:VEVENT
DTSTART;TZID=America/Edmonton:20210204T170000
DTEND;TZID=America/Edmonton:20210204T183000
DTSTAMP:20260422T235015
CREATED:20210203T203245Z
LAST-MODIFIED:20210203T203245Z
UID:15101-1612458000-1612463400@demo.futurecite.ai
SUMMARY:TNT CleanTech Top 20 Pitch Night & SK Top 20 Pitch Nigh
DESCRIPTION:Feb 4th –  Simultaneous TNT Cleantech Top 20 Pitch Night I x SK Top 20 Pitch Night I.  Say whaaaat?  Two Top 20 pitch nights at the same time!  How is that even possible?  I can’t even begin to imagine how many zoom accounts must be required.  Good thing we’ve got an actual organizer these days. \n\nThe Alberta Cleantech Investment Summit is on now\, and we’re raising $100\,000+ for a local company while also training new investors to become confident angels. \nAs part of the due diligence process\, and to show everyone the great companies that we have growing in Alberta\, the top 20 companies will get 3 minutes to pitch to the investors in a public virtual forum on Feb 4th and 11th. Each night 10 companies will pitch. Make sure to register for both nights! \nFeb 4th \n\nCarbonova\nWinecrush Tech.\nWA-VE\nEZ Ops\nZS2 Technologies\nZILA Works\nRuth\nThe Harvest Hub\nVermillion Power Tech.\nCeres Solutions\n\nCome support these incredible companies being built right here at home! After the event everyone will have the chance to join our virtual happy hour on Discord and chat with the entrepreneurs and investors. \n\n\n\nAbout the summit \nOur investment summits provide a fun\, approachable way to become an angel investor or to raise capital for your early-stage tech startup. It’s equal parts fundraising\, educating and community building. \n\n 
URL:https://demo.futurecite.ai/event/tnt-cleantech-top-20-pitch-night-sk-top-20-pitch-nigh/
LOCATION:Virtual Online
CATEGORIES:Agriculture,CleanTech,Entrepreneurs,Industry,Innovation,IoT,Networking,Pitch Competition,Small Business,STEME,Sustainability,Technology,Webinar
ORGANIZER;CN="TNT":MAILTO:zstorms@ualberta.ca
END:VEVENT
END:VCALENDAR