BEGIN:VCALENDAR
VERSION:2.0
PRODID:-//FutureCite - ECPv6.15.20//NONSGML v1.0//EN
CALSCALE:GREGORIAN
METHOD:PUBLISH
X-WR-CALNAME:FutureCite
X-ORIGINAL-URL:https://demo.futurecite.ai
X-WR-CALDESC:Events for FutureCite
REFRESH-INTERVAL;VALUE=DURATION:PT1H
X-Robots-Tag:noindex
X-PUBLISHED-TTL:PT1H
BEGIN:VTIMEZONE
TZID:America/Edmonton
BEGIN:DAYLIGHT
TZOFFSETFROM:-0700
TZOFFSETTO:-0600
TZNAME:MDT
DTSTART:20200308T090000
END:DAYLIGHT
BEGIN:STANDARD
TZOFFSETFROM:-0600
TZOFFSETTO:-0700
TZNAME:MST
DTSTART:20201101T080000
END:STANDARD
BEGIN:DAYLIGHT
TZOFFSETFROM:-0700
TZOFFSETTO:-0600
TZNAME:MDT
DTSTART:20210314T090000
END:DAYLIGHT
BEGIN:STANDARD
TZOFFSETFROM:-0600
TZOFFSETTO:-0700
TZNAME:MST
DTSTART:20211107T080000
END:STANDARD
BEGIN:DAYLIGHT
TZOFFSETFROM:-0700
TZOFFSETTO:-0600
TZNAME:MDT
DTSTART:20220313T090000
END:DAYLIGHT
BEGIN:STANDARD
TZOFFSETFROM:-0600
TZOFFSETTO:-0700
TZNAME:MST
DTSTART:20221106T080000
END:STANDARD
BEGIN:DAYLIGHT
TZOFFSETFROM:-0700
TZOFFSETTO:-0600
TZNAME:MDT
DTSTART:20230312T090000
END:DAYLIGHT
BEGIN:STANDARD
TZOFFSETFROM:-0600
TZOFFSETTO:-0700
TZNAME:MST
DTSTART:20231105T080000
END:STANDARD
BEGIN:DAYLIGHT
TZOFFSETFROM:-0700
TZOFFSETTO:-0600
TZNAME:MDT
DTSTART:20240310T090000
END:DAYLIGHT
BEGIN:STANDARD
TZOFFSETFROM:-0600
TZOFFSETTO:-0700
TZNAME:MST
DTSTART:20241103T080000
END:STANDARD
BEGIN:DAYLIGHT
TZOFFSETFROM:-0700
TZOFFSETTO:-0600
TZNAME:MDT
DTSTART:20250309T090000
END:DAYLIGHT
BEGIN:STANDARD
TZOFFSETFROM:-0600
TZOFFSETTO:-0700
TZNAME:MST
DTSTART:20251102T080000
END:STANDARD
END:VTIMEZONE
BEGIN:VEVENT
DTSTART;TZID=America/Edmonton:20240508T083000
DTEND;TZID=America/Edmonton:20240509T160000
DTSTAMP:20260423T093054
CREATED:20240501T051801Z
LAST-MODIFIED:20240502T015047Z
UID:19335-1715157000-1715270400@demo.futurecite.ai
SUMMARY:Want to Skill Up for a Future Career?
DESCRIPTION:FutureCite’s excited to be at the Skills Canada Alberta Competition and Expo Event on May 8th and 9th 2024 8:30 AM to 4:00 PM.\n \nCheck in with us at Booth #77 in Hall A at the Expo Centre in Edmonton\, Alberta.\nWe’re looking forward to answering any questions you may have about navigating career choices as a student\, a parent\, or the benefits of looking at the advantages of how we can help employers and educators to close the skills gaps more efficiently!  Drop by for a chat! \nDid you know about the skilled talent shortfall? \nThe global workforce shortfall hits Canada’s future capacity to fill gaps left by workers retiring by 2030.  Youth and newcomers are key to building our future workforce! \nWho does this impact now? \nCandidates hit hard will be the youth\, newcomers and workers transitioning careers.  Trades and vocational education offer pathways that will thrive with the knowledge applying automation tools to their work activities. \nHow can we help? \nOur purpose is to Bridge Skill Gaps Today to Build a Better Tomorrow\, by Connecting Candidate to Career\, Course and Company “Fit” at pre-recruitment and pre-enrollment – all on One AI powered platform. \n\nDid you know that FutureCite helps companies and course creators to bridge those gaps faster and more efficiently? \nBy identifying the gaps early before recruitment applications are done\, FutureCite save Companies and Course Creators time and costs in their screening at pre-recruitment and pre-enrollment into the best fit courses respectively to improve success and retention. \n\nWhy attend the Skills Canada Alberta event?   \nSkills Canada Alberta is host to Alberta students in the trades competing to qualify for the Canadian Finals in Ontario.  Trades in this competition include both secondary and postsecondary students.  78 companies will be hosting booths open to the public! \nIt’s going to be an exciting energy filled event with bright minds of the future competing on the provincial stage! IT’S FREE AND OPEN TO THE PUBLIC!\nThis could be for someone you know who is interested in a different pathway to jobs of the future!
URL:https://demo.futurecite.ai/event/want-to-skill-up-for-a-future-career/
LOCATION:Edmonton Expo Centre
CATEGORIES:Career Opportunities,Competition,Conference,Construction,Courses,Economy,Education,Health,Human Talent,Industry,Innovation,Learning,Networking,Robotics,Students,Talent,Technology
ATTACH;FMTTYPE=image/jpeg:https://demo.futurecite.ai/wp-content/uploads/2024/04/Futurecite-Presentation-Confidential-Deck-April-30-2024-for-Event-Marketing-Skill-City-3-cropped-.jpg
END:VEVENT
BEGIN:VEVENT
DTSTART;TZID=America/Edmonton:20221119T100000
DTEND;TZID=America/Edmonton:20221119T130000
DTSTAMP:20260423T093054
CREATED:20221109T063450Z
LAST-MODIFIED:20221109T063450Z
UID:17831-1668852000-1668862800@demo.futurecite.ai
SUMMARY:ELIXR Virtual Reality Day
DESCRIPTION:ELIXR Simulation: Extended Reality and the Knowledge Metaverse is a free\, by-registration public event showcasing Alberta’s potential for developing and adopting extended reality (XR) in education\, training and risk management.\nJoin ELIXR’s 11 post-secondary and numerous industry partners for the launch of our XR MarketMaker Platform. ELIXR is opening up the world’s largest repository of XR applications and simulations for education right here in Alberta.  \nAttendees will have an opportunity to interact with members from California-based\, EON Reality\, world leader in Augmented and Virtual Reality academic and industry training solutions who will demonstrate many of the immersive features of their XR Platform\, including spatial meetings. \nThe event is being held in the Paul Byrne Hall in the Heart of the Robbins. 1st floor of the Robbins Health Learning Centre (building 9\, located on 109 St). \nCome along and learn about how XR is going to revolutionize the way we learn and the way we communicate. \nXR Competition\nIf you are an XR developer\, you’re invited to participate in ELIXR’s Top of the Pops XR Competition – there’s a $500 prize and an internship opportunity with EON Reality on the line. Live voting to determine the winner will occur during the event. Submission deadline midnight Sunday Nov. 13th.
URL:https://demo.futurecite.ai/event/elixr-virtual-reality-day/
LOCATION:MacEwan University\, 10460 105 Street Northwest\, '
CATEGORIES:AR,Avatars,Competition,Conference,Digital Transformation,Education,Entrepreneurs,IoT,Networking,Startups,STEME,Technology
ATTACH;FMTTYPE=image/png:https://demo.futurecite.ai/wp-content/uploads/2022/11/Elixr.png
END:VEVENT
BEGIN:VEVENT
DTSTART;TZID=America/Edmonton:20220217T163000
DTEND;TZID=America/Edmonton:20220217T183000
DTSTAMP:20260423T093054
CREATED:20220217T000801Z
LAST-MODIFIED:20220217T000801Z
UID:16900-1645115400-1645122600@demo.futurecite.ai
SUMMARY:Startup TNT Cleantech Investment Summit - Top 20
DESCRIPTION:20 cleantech entrepreneurs pitch their companies to 30+ angel investors and the public at this virtual event on Feb 17!\n\n\n\n\n\nAbout this event\n\n\n20 pitches. 1 massive Zoom party. 4 in-person afterparties*. \nAt the Startup TNT Cleantech Investment Summit\, we’re aiming to raise $500\,000+ for seed-stage cleantech companies that are reducing greenhouse gases and making economic impact in the Prairies\, while engaging local investors to become confident angels. Big thanks to Foresight Canada for helping make this sector-specific Summit possible. \nAs part of the investor due diligence process\, and to show off the great companies we have growing in the Prairies\, the top 20 companies will deliver their punchy 3-minute pitches in a public virtual forum on Feb 17\, starting at 4:30pm MST. \nOnline event details: \n4:30–6:30pm MST \nPitches will take place on Zoom\, register for the link (will also be streamed on YouTube) \nYXE is hosting a watch party at Birmingham’s Vodka & Ale House\, join us from 5:00 pm CST on to watch the pitches and connect at the afterparty! \nIn-person afterparties*: \n6:30pm MST till late \nHead down afterwards to your local watering hole to celebrate with the entrepreneurs\, investors and community friends. \nYEG – Campio Brewing\, 10257 105 St NW \nYYC – Briggs\, 100-317 10 Ave SW \nYXE – Birmingham’s Vodka & Ale House\, 810 Circle Dr. E \nYQR – Cathedral Social Hall\, 1801 Hamilton St \nTop 20 Companies: \nWill be announced on Feb 14! \n=== \n  \n*Public health notice: \nPlease ensure that you follow all venue restrictions. \n  \nWe also ask that once you’ve found a seat you hang out there for the night\, this is another way that we can help keep each other safe and healthy.
URL:https://demo.futurecite.ai/event/startup-tnt-cleantech-investment-summit-top-20/
LOCATION:Virtual Online
CATEGORIES:AI / ML / Data Science,CleanTech,Competition,Entrepreneurs,Industry,Innovation,Investment,Networking,Pitch Competition,Science,Small Business,Social Innovation,Startups,Sustainability,Talent,Technology
ORGANIZER;CN="TNT":MAILTO:zstorms@ualberta.ca
END:VEVENT
BEGIN:VEVENT
DTSTART;TZID=America/Edmonton:20211118T100000
DTEND;TZID=America/Edmonton:20211118T140000
DTSTAMP:20260423T093054
CREATED:20211105T234836Z
LAST-MODIFIED:20211105T234836Z
UID:16358-1637229600-1637244000@demo.futurecite.ai
SUMMARY:Her Story Competition
DESCRIPTION:Join us on November 18\, 2021\, for the inaugural HerStory 2021 Competition featuring 30 inspiring women-identifying entrepreneurs who will be sharing their stories in front of a panel of Champions looking to invest. \nIncluding special guest speakers from across Canada’s entrepreneurial and investment ecosystem\, HerStory is a national virtual event that will spark a movement focused on diversifying the investing and founder landscape. \nWhat to expect: \nHerStory participants will take turns sharing their stories with the audience and our panel of Champions. Each participant will have a couple of minutes to answer questions from the Champions that will dig deeper into participants’ journeys\, and then later\, as the Champions deliberate\, we’ll have a fireside chat with a special surprise guest! \nAttendees are highly encouraged to stay for the entire duration of the event to give each woman the audience she deserves for her narrative. \nOn November 18\, 2021\, we hope you’ll join us in cheering on and championing these founders as they share their stories of entrepreneurship and their journey to founding their company. \nWhy HerStory? \nStudies have shown what women entrepreneurs and investors have known for decades: traditional pitch competitions consistently fail women. HerStory is quite literally flipping the script. By leading with narrative and encouraging a relatable\, honest and intuitively woman-centred approach to information\, connection and business building\, we’re challenging the traditional pitch model and spurring innovation. HerStory amplifies a diversity of voices and connects modern entrepreneurs with appropriate investors\, increasing the likelihood of women accessing pathways to success. \nFor more information visit: https://the51.com/herstory
URL:https://demo.futurecite.ai/event/her-story-competition/
LOCATION:Virtual Online
CATEGORIES:Competition,Conference,Entrepreneurs,Innovation,Investment,Pitch Competition,Small Business,Startups,Students,Sustainability,Technology,The Arts,Webinar
END:VEVENT
BEGIN:VEVENT
DTSTART;TZID=America/Edmonton:20211007T163000
DTEND;TZID=America/Edmonton:20211007T183000
DTSTAMP:20260423T093054
CREATED:20210928T052730Z
LAST-MODIFIED:20210928T052730Z
UID:16227-1633624200-1633631400@demo.futurecite.ai
SUMMARY:TNT Investment Summit IV
DESCRIPTION:SIGN UP TO STREAM THE TOP 20 PITCH NIGHT AND REGISTER FOR THE AFTER-PARTY\nDate: Oct 07\, 2021 @ 4:30 pm – 6:30 pm \nWatch YEG\, YYC and SK on Zoom and join in on the after parties (free beer) following! \nAll you need to do is register!
URL:https://demo.futurecite.ai/event/tnt-investment-summit-iv/
LOCATION:Virtual Online
CATEGORIES:Competition,Entrepreneurs,Industry,Innovation,Investment,Networking,Small Business,Startups,Technology,The Arts,Webinar
ORGANIZER;CN="TNT":MAILTO:zstorms@ualberta.ca
END:VEVENT
BEGIN:VEVENT
DTSTART;TZID=America/Edmonton:20210712T080000
DTEND;TZID=America/Edmonton:20210716T170000
DTSTAMP:20260423T093054
CREATED:20210625T203311Z
LAST-MODIFIED:20210625T203311Z
UID:15955-1626076800-1626454800@demo.futurecite.ai
SUMMARY:Innovation Rodeo: Investor Readiness
DESCRIPTION:This year is the 6th annual Innovation Rodeo\, it is virtual\, GIVES AWAY ALL THE REGISTRATION FEES from the event\, and has: \n\nFundraising Panels where some of Canada’s most successful entreprenuers share how to raise non-dilutive\, angel and VC funding.\nInnovation Challenges that give away $6\,000 in cash prizes to participants\nFive different pitch competitions that award a total of $25\,000 to first time student entrepreneurs and all the ticket proceeds to new technical founders\n\nThe Innovation Rodeo is made for problem solvers\, innovators\, entrepreneurs\, change makers\, investors and ecoysystem builders! \nEach day is designed to solve the most common problems encountered when creating\, starting\, growing and exiting a company. \n\nMonday is for anyone looking to create products and services people want and features Bob Moesta – the pioneer of the revolutionary Jobs To Be Done framework – and Canada’s own Katelyn Bourgoin.\nTuesday is for anyone looking to raise non-dilutive funding easier and features a panel of successful entrepreneurs who will share stories of how they raised their non-dilutive funding\, an Innovation Challenge\, and a pitch competition.\nWednesday is for anyone looking to raise money from angel investors sooner or get into an accelerator\, and has a panel of successful entrepreneurs who will share their stories of how they raised money from angel investors\, an Innovation Challenge\, and a pitch competition.\nThursday is for anyone looking to raise funds from a Venture Capital firm faster and features a panel of successful entrepreneurs who will share their experience raising money from VC’s\, an Innovation Challenge\, and a pitch competition.\nFriday is for anyone looking to have a successful exit and features a keynote speaker and two pitch competitions.\n\nThroughout the week participants will learn of new tools\, exchange ideas\, and share connections while developing the relationships\, skills\, and confidence needed to create and commercialize ideas faster. \nYou can purchase day tickets or a discounted week pass. \nTickets are FREE FOR STUDENTS and start at $15 for startups and $20 for scaleups and everyone else.
URL:https://demo.futurecite.ai/event/innovation-rodeo-investor-readiness/
LOCATION:Virtual Online
CATEGORIES:AI / ML / Data Science,Competition,Conference,Digital Transformation,Entrepreneurs,Finance,Innovation,Leadership,Pitch Competition,Small Business,Startups,Students,Technology,Webinar
END:VEVENT
BEGIN:VEVENT
DTSTART;TZID=America/Edmonton:20210625T183000
DTEND;TZID=America/Edmonton:20210625T200000
DTSTAMP:20260423T093054
CREATED:20210625T214610Z
LAST-MODIFIED:20210625T214610Z
UID:15960-1624645800-1624651200@demo.futurecite.ai
SUMMARY:Alberta Business Awards of Distinction
DESCRIPTION:Event Information\nThe Alberta Business Awards of Distinction recognize businesses and organizations demonstrating outstanding achievements and contributions in their communities. \nJoin us virtually for our livestream event on Friday\, June 25 when we will recognize this year’s finalists and announce our ABAD 2021 winners. The event will be emceed by Jennifer Crosby from Global Edmonton. \nABAD 2021 Virtual Event\n Date: Friday\, June 25\, 2021\nStart Time: 6:30 pm (doors open at 6 pm)\nThere is no cost to attend this year’s event but attendees are required to register in advance. \n  \nClick Here to Register\n  \nView Event Program
URL:https://demo.futurecite.ai/event/alberta-business-awards-of-distinction/
CATEGORIES:Competition,Economy,Entrepreneurs,Future Cities,Human Talent,Innovation,Leadership,Small Business,Startups,Sustainability,Technology,Webinar
END:VEVENT
BEGIN:VEVENT
DTSTART;TZID=America/Edmonton:20210617T160000
DTEND;TZID=America/Edmonton:20210617T200000
DTSTAMP:20260423T093054
CREATED:20210520T070858Z
LAST-MODIFIED:20210520T071005Z
UID:15806-1623945600-1623960000@demo.futurecite.ai
SUMMARY:TNT Investment Summit
DESCRIPTION:At the TNT Investment Summit we’re raising at least $300\,000 for local Edmonton and Calgary companies while also training new investors to become confident angels. \nThe eight-week process culminates in this final event\, where we’ll hear from panel speakers\, pitches from both top five companies\, and of course the live announcement of at least two investments being made into a local startups! \nDetails and finalist companies to be updated closer to the date. \nThe after-party will be held on Discord\, where you’ll have the chance to chat with the companies\, investors\, and folks from around the community. Grab a beverage and enjoy!
URL:https://demo.futurecite.ai/event/tnt-investment-summit/
LOCATION:Virtual Online
CATEGORIES:Competition,Entrepreneurs,Innovation,Investment,Networking,Pitch Competition,Small Business,Startups,Technology,Webinar
ORGANIZER;CN="TNT":MAILTO:zstorms@ualberta.ca
END:VEVENT
BEGIN:VEVENT
DTSTART;TZID=America/Edmonton:20210326T080000
DTEND;TZID=America/Edmonton:20210328T170000
DTSTAMP:20260423T093054
CREATED:20210316T034950Z
LAST-MODIFIED:20210316T034950Z
UID:15442-1616745600-1616950800@demo.futurecite.ai
SUMMARY:Space Settlement Entrepreneur - SSEC Competition
DESCRIPTION:About this Event\n\n\nAudience: High-school and Undergraduate-college students \nThe SSEC is an online (virtual) competition for high-school and undergraduate-college students\, interested in the future of space technology and entrepreneurship. Over the course of this 3-5 day online competition event\, students will develop a space-industry start-up company that meets the needs of a newly-designed space settlement (2020’s competition description- https://bit.ly/SSDCIntro). \nStudents will learn about: the entrepreneurial mindset\, marketing\, problem and solution ideation\, business models\, prototyping\, investor pitch decks\, and the all-important elevator pitch. \nDates: Sat\, Mar 20\, 2021\, 1:00 PM – to Sun\, Mar 28\, 2021\, 5:00 PM MDT \nAGENDA (see Tentative agenda at https://www.STEME.org/ssec) \nSaturday\, March 20 \n2:00 PM CST 1. Introduction to Entrepreneurship \n3:00 PM CST 2. [RESEARCH] Landscape of the Space Industry and SSDC \n4:00 PM CST 3. Introduction to SSDC & Problem Spaces (Request for Proposal) \nSunday\, March 21\, 2021 \n2:00 PM CST 4. Introduction to the Pitch Deck & Judges’ Rubric \n2:15 PM CST 5. Assessing a Problem \n3:15 PM CST 6. Developing a Solution \n4:00 PM CST 7. Prototyping \n4:30 PM CST 8. Introduction to Marketing & Customer Proposal & Sales Pitch \nThursday\, March 25\, 2021 \n5:00PM CST SSDC Kick-Off & Training \nFriday\, March 26\, 2021 \n5:00 PM CST 9. Business Model Canvas \n6:30 PM CST 10. Market Research: Customer Needs and Interviews & Meetings \n7:00 PM CST 11. Investor Pitch Deck\, Elevator Pitch\, & Presentation Skills \nSaturday\, March 27\, 2021 \n1:00 PM CST SSDC Panel & Company Pitches \n1:30 PM CST SSDC Company Meetings \nSunday\, March 28\, 2021 \n9:30 AM CST SSDC Company Presentations \n1:00 PM CST SSEC Final Pitch Presentation and Judging \n4:00 PM CST SSDC & SSEC Winners announced \nPricing: $50 (online/virtual competition) \n$40 Early-Bird Pricing \nWITH FULL SCHOLARSHIP OPTIONS! \nFor the most up-to-date information\, visit: www.STEME.org/ssec \nIf you are in FINANCIAL NEED and cannot afford to attend but wish to attend\, we urge you to apply for our Scholarship ($50 value): https://bit.ly/SSECScholarship1
URL:https://demo.futurecite.ai/event/space-settlement-entrepreneur-ssec-competition/
LOCATION:Virtual Online
CATEGORIES:AI / ML / Data Science,Career Opportunities,Competition,Conference,Entrepreneurs,Human Talent,Industry,Innovation,Learning,Pitch Competition,Robotics,Science,Small Business,Social Innovation,Space Exploration,Startups,Sustainability,Technology,Travel
END:VEVENT
BEGIN:VEVENT
DTSTART;TZID=America/Edmonton:20210318T100000
DTEND;TZID=America/Edmonton:20210318T123000
DTSTAMP:20260423T093054
CREATED:20210315T074422Z
LAST-MODIFIED:20210315T074422Z
UID:15408-1616061600-1616070600@demo.futurecite.ai
SUMMARY:NACO Angel Investment Summit
DESCRIPTION:Join us on March 18\, 2021 at 10:30 AM MST / 12:30 PM EST for the Edmonton Angel Investment Summit\, a pitch event featuring the most promising Edmonton based angel ready companies. Finalists will take to the virtual stage to showcase their company to an audience of local and national angel investors\, innovators\, and startup supporters. \nFinalists will also get exposure on the international stage at NACO West 2021 on March 30 & 31 – an unparalleled opportunity to showcase Edmonton’s vibrant innovation ecosystem! \nRegister today to get a sneak peek at some of Edmonton’s hottest companies. \nTo reserve your place at the Edmonton Angel Investment Summit\, register here at no cost.
URL:https://demo.futurecite.ai/event/naco-angel-investment-summit/
LOCATION:Virtual Online
CATEGORIES:Competition,Entrepreneurs,Finance,Industry,Innovation,Investment,Pitch Competition,Small Business,Social Innovation,Sustainability,Technology,Webinar
END:VEVENT
BEGIN:VEVENT
DTSTART;TZID=America/Edmonton:20210218T180000
DTEND;TZID=America/Edmonton:20210218T184500
DTSTAMP:20260423T093054
CREATED:20210215T235954Z
LAST-MODIFIED:20210215T235954Z
UID:15262-1613671200-1613673900@demo.futurecite.ai
SUMMARY:DevCon 21 Student Pitch at TNT Night
DESCRIPTION:Students from #DevCon21 are taking over this TNT pitch night!\n\n\n\n\n\nAbout this Event\nThu\, February 18\, 2021 \n6:00 PM – 6:45 PM MS \n\n\nWe’re teaming up with Startup Edmonton’s biggest student event of the year to bring you pitches from: \n\nFly & Fetch\nFLIK\nFinanciio\nAgrioLabs\nAR.t\n\nAfter the event we invite everyone to join us at our weekly happy hour\, where you’ll have a chance to chat with the presenters and folks from all corners of our community. It’s held on Discrd.
URL:https://demo.futurecite.ai/event/devcon-21-student-pitch-at-tnt-night/
LOCATION:Virtual Online
CATEGORIES:AI / ML / Data Science,Competition,Entrepreneurs,Innovation,Investment,Small Business,Students,Technology,Webinar
ORGANIZER;CN="TNT":MAILTO:zstorms@ualberta.ca
END:VEVENT
BEGIN:VEVENT
DTSTART;TZID=America/Edmonton:20210216T080000
DTEND;TZID=America/Edmonton:20210216T170000
DTSTAMP:20260423T093054
CREATED:20210212T061200Z
LAST-MODIFIED:20210212T061200Z
UID:15236-1613462400-1613494800@demo.futurecite.ai
SUMMARY:Pitch Competition -for Indigenous & Immigrant Biz Owners
DESCRIPTION:Pitch your business\, connect with other small business owners\, and you could win up to $3\,000! This competition is an opportunity for Indigenous and immigrant small business owners to build the confidence and the skills they need to talk about their businesses\, and will provide a platform for business owners that often face challenges with business exposure and access to networking opportunities outside of their immediate cultural groups. \n\nThis pitch competition will:\n\n\n\n\nProvide exposure for participating businesses \nProvide access to expert judges and to a network of existing successful Indigenous and immigrant entrepreneurs \nFoster networking between these two specialized groups to expand reach \nHelp participating small business owners build confidence and the skills they need to talk about their businesses in a succinct and value–adding way. \n\n\nRegistered businesses that have been operational for a minimum of 6 months and a maximum of 10 years are now eligible to apply\, and submissions will be accepted until February 16th at 11:59pm.
URL:https://demo.futurecite.ai/event/pitch-competition-for-indigenous-immigrant-biz-owners/
LOCATION:Virtual Online
CATEGORIES:Competition,Entrepreneurs,Leadership,Pitch Competition,Small Business,Social Innovation,Webinar
END:VEVENT
BEGIN:VEVENT
DTSTART;TZID=America/Edmonton:20210121T080000
DTEND;TZID=America/Edmonton:20210121T170000
DTSTAMP:20260423T093054
CREATED:20210122T034323Z
LAST-MODIFIED:20210122T034323Z
UID:15008-1611216000-1611248400@demo.futurecite.ai
SUMMARY:Space Settlement Entrepreneur Competition 2021
DESCRIPTION:Space Settlement Entrepreneur Competition: Develop a private space company decades into the future!\n\n\n\n\n\nAbout this Event\n\n\nAudience: High-school and Undergraduate-college students \nThe SSEC is an online (virtual) competition for high-school and undergraduate-college students\, interested in the future of space technology and entrepreneurship. Over the course of this 3-5 day online competition event\, students will develop a space-industry start-up company that meets the needs of a newly-designed space settlement (2020’s competition description- https://bit.ly/SSDCIntro). \nStudents will learn about: the entrepreneurial mindset\, marketing\, problem and solution ideation\, business models\, prototyping\, investor pitch decks\, and the all-important elevator pitch. \nPricing: $50 (online/virtual competition) WITH FULL SCHOLARSHIP OPTIONS! \nFor the most up-to-date information\, visit: www.STEME.org/ssec \nIf you are in FINANCIAL NEED and cannot afford to attend but wish to attend\, we urge you to apply for our Scholarship ($50 value): https://bit.ly/SSECScholarship1 \nSee tentative agenda will be published in February 2021 \nThu\, Mar 25\, 2021\, 4:30 PM – Mon\, Mar 29\, 2021\, 5:00 PM MDT
URL:https://demo.futurecite.ai/event/space-settlement-entrepreneur-competition-2021/
LOCATION:Virtual Online
CATEGORIES:AI / ML / Data Science,Community Planning,Competition,Conference,Contest,Entrepreneurs,Innovation,Leadership,Living,Pitch Competition,Scholarships,Science,Space Exploration,STEME,Students,Technology,Webinar
END:VEVENT
END:VCALENDAR