BEGIN:VCALENDAR
VERSION:2.0
PRODID:-//FutureCite - ECPv6.15.20//NONSGML v1.0//EN
CALSCALE:GREGORIAN
METHOD:PUBLISH
X-ORIGINAL-URL:https://demo.futurecite.ai
X-WR-CALDESC:Events for FutureCite
REFRESH-INTERVAL;VALUE=DURATION:PT1H
X-Robots-Tag:noindex
X-PUBLISHED-TTL:PT1H
BEGIN:VTIMEZONE
TZID:America/Edmonton
BEGIN:DAYLIGHT
TZOFFSETFROM:-0700
TZOFFSETTO:-0600
TZNAME:MDT
DTSTART:20170312T090000
END:DAYLIGHT
BEGIN:STANDARD
TZOFFSETFROM:-0600
TZOFFSETTO:-0700
TZNAME:MST
DTSTART:20171105T080000
END:STANDARD
BEGIN:DAYLIGHT
TZOFFSETFROM:-0700
TZOFFSETTO:-0600
TZNAME:MDT
DTSTART:20180311T090000
END:DAYLIGHT
BEGIN:STANDARD
TZOFFSETFROM:-0600
TZOFFSETTO:-0700
TZNAME:MST
DTSTART:20181104T080000
END:STANDARD
BEGIN:DAYLIGHT
TZOFFSETFROM:-0700
TZOFFSETTO:-0600
TZNAME:MDT
DTSTART:20190310T090000
END:DAYLIGHT
BEGIN:STANDARD
TZOFFSETFROM:-0600
TZOFFSETTO:-0700
TZNAME:MST
DTSTART:20191103T080000
END:STANDARD
BEGIN:DAYLIGHT
TZOFFSETFROM:-0700
TZOFFSETTO:-0600
TZNAME:MDT
DTSTART:20200308T090000
END:DAYLIGHT
BEGIN:STANDARD
TZOFFSETFROM:-0600
TZOFFSETTO:-0700
TZNAME:MST
DTSTART:20201101T080000
END:STANDARD
END:VTIMEZONE
BEGIN:VEVENT
DTSTART;TZID=America/Edmonton:20190223T120000
DTEND;TZID=America/Edmonton:20190223T140000
DTSTAMP:20260423T150417
CREATED:20190206T175831Z
LAST-MODIFIED:20190206T175831Z
UID:13694-1550923200-1550930400@demo.futurecite.ai
SUMMARY:Edmonton NextGen MEAET Pitch Event
DESCRIPTION:Edmonton’s NextGen is excited to present Lunch MEAET – a micro-funding event that showcases local initiatives – with a scrumptious lunch twist on Saturday\, February 23!\nOver lunch\, you will hear pitches from local independent projects\, initiaves\, and businesses that have a mental health or wellness component. Listen to the pitches and get to know the presenters\, then vote on your favourite one. Votes will be tallied and $10 of your ticket price will go to the winning pitch; helping their project succeed in the community. \nWant to pitch your project\, initiative or business at our Lunch MEAET event?\nFill out this online form! applications will be accepted until Sunday\, February 3rd. Your project or idea needs to have a wellness or mental health component to be considered as a pitch for the event. \nThe lunch portion of the event will involve a catered lunch. We’ll also provide mental health and wellness self-care activities\, including: \n\nTherapy animals from @CAAWLS (Chimo Animal Assisted Wellness and Learning Society)\nFamily friendly activities – ring toss\, bullseye\, colouring and more\nTea samples from @David’s Tea\nMore to be announced soon!\n\n\nEvent Schedule\n12pm | Doors Open \n12-1pm | Enjoy food + activities on-site! \n1-1:45pm | Pitches – stay tuned for an announcement in February! \n1:45pm-2:15pm | Voting commences \n2:15-2:30pm | Winner announced + wrap up \n\nFAQs \nWhat are my transportation/parking options for getting to and from the event? \nThere is paid underground parking available in the building. Edmonton tower is within walking distance of Central & Churchill LRT stations and several bus stops. \nIs the event accessible? \nThe facility is equipped with elevators and accessible washrooms. Please contact us if you would ilke additional accomodations. \nIs the event child friendly? \nThis is a family-friendly event and children are welcome to attend!\nChildren under the age of 15 are free when registering.
URL:https://demo.futurecite.ai/event/edmonton-nextgen-meaet-pitch-event-2/
LOCATION:Edmonton NextGen\, Edmonton\, Canada
CATEGORIES:Contest,Entrepreneurs,Health,Innovation,Learning,Living,Networking,Small Business,Social Innovation,Technology
END:VEVENT
BEGIN:VEVENT
DTSTART;TZID=America/Edmonton:20181207T133000
DTEND;TZID=America/Edmonton:20181207T180000
DTSTAMP:20260423T150417
CREATED:20181207T050851Z
LAST-MODIFIED:20181207T050851Z
UID:6876-1544189400-1544205600@demo.futurecite.ai
SUMMARY:Pitchfest Edmonton
DESCRIPTION:  \nLike a community-based Shark Tank or Dragon’s Den\, Pitchfest Edmonton is where startup company founders can pitch their businesses and specific needs to an audience of public and private investors\, service providers\, business leaders\, and community members who ask questions and then offer ideas and proposals to the startup founders. \nEach startup founder will have 5 minutes to pitch their business and specific resource needs\, followed by 5 minutes of Q&A from an audience panel. Then the audience members will have 5 minutes to fill out a form to email the startup founder with ideas and offers for various ways they might be able to fulfill those specific needs\, whether they be financing\, marketing\, legal\, strategy\, business development\, personnel\, product development\, or sales. After all of the pitches are finished\, the audience will be able to vote online to choose their favorite.
URL:https://demo.futurecite.ai/event/pitchfest-edmonton/
LOCATION:Shaw Conference Centre\, 9797 Jasper Avenue\, Edmonton\, Alberta\, T5J 1N9\, Canada
CATEGORIES:Conference,Contest,Digital Transformation,Entrepreneurs,Learning,LifeStyle,Living,Small Business,Technology
ATTACH;FMTTYPE=image/jpeg:https://demo.futurecite.ai/wp-content/uploads/2018/12/Pitchfest.jpg
END:VEVENT
BEGIN:VEVENT
DTSTART;TZID=America/Edmonton:20181207T133000
DTEND;TZID=America/Edmonton:20181207T180000
DTSTAMP:20260423T150417
CREATED:20181207T050851Z
LAST-MODIFIED:20181207T050851Z
UID:13646-1544189400-1544205600@demo.futurecite.ai
SUMMARY:Pitchfest Edmonton
DESCRIPTION:  \nLike a community-based Shark Tank or Dragon’s Den\, Pitchfest Edmonton is where startup company founders can pitch their businesses and specific needs to an audience of public and private investors\, service providers\, business leaders\, and community members who ask questions and then offer ideas and proposals to the startup founders. \nEach startup founder will have 5 minutes to pitch their business and specific resource needs\, followed by 5 minutes of Q&A from an audience panel. Then the audience members will have 5 minutes to fill out a form to email the startup founder with ideas and offers for various ways they might be able to fulfill those specific needs\, whether they be financing\, marketing\, legal\, strategy\, business development\, personnel\, product development\, or sales. After all of the pitches are finished\, the audience will be able to vote online to choose their favorite.
URL:https://demo.futurecite.ai/event/pitchfest-edmonton-2/
LOCATION:Shaw Conference Centre\, 9797 Jasper Avenue\, Edmonton\, Alberta\, T5J 1N9\, Canada
CATEGORIES:Conference,Contest,Digital Transformation,Entrepreneurs,Learning,LifeStyle,Living,Small Business,Technology
ATTACH;FMTTYPE=image/jpeg:https://demo.futurecite.ai/wp-content/uploads/2018/12/Pitchfest.jpg
END:VEVENT
BEGIN:VEVENT
DTSTART;TZID=America/Edmonton:20181102T080000
DTEND;TZID=America/Edmonton:20181118T233000
DTSTAMP:20260423T150417
CREATED:20181103T001317Z
LAST-MODIFIED:20181103T001317Z
UID:6653-1541145600-1542583800@demo.futurecite.ai
SUMMARY:FutureCite Contest Deadline Entry for iPhoneX  Draw Nov 18 2018
DESCRIPTION:  \nThis iPhoneX could be yours!  All you have to do is register.  See Contest at www.futurecite.com
URL:https://demo.futurecite.ai/event/futurecite-contest-deadline-entry-for-iphonex-draw-nov-18-2018/
LOCATION:Contest\, Canada
CATEGORIES:Contest
ATTACH;FMTTYPE=image/jpeg:https://demo.futurecite.ai/wp-content/uploads/2018/09/apple-iphone-x-new-1.jpg
END:VEVENT
BEGIN:VEVENT
DTSTART;TZID=America/Edmonton:20181102T080000
DTEND;TZID=America/Edmonton:20181118T233000
DTSTAMP:20260423T150417
CREATED:20181103T001317Z
LAST-MODIFIED:20181103T001317Z
UID:13635-1541145600-1542583800@demo.futurecite.ai
SUMMARY:FutureCite Contest Deadline Entry for iPhoneX  Draw Nov 18 2018
DESCRIPTION:  \nThis iPhoneX could be yours!  All you have to do is register.  See Contest at www.futurecite.com
URL:https://demo.futurecite.ai/event/futurecite-contest-deadline-entry-for-iphonex-draw-nov-18-2018-2/
LOCATION:Contest\, Canada
CATEGORIES:Contest
ATTACH;FMTTYPE=image/jpeg:https://demo.futurecite.ai/wp-content/uploads/2018/09/apple-iphone-x-new-1.jpg
END:VEVENT
END:VCALENDAR