BEGIN:VCALENDAR
VERSION:2.0
PRODID:-//FutureCite - ECPv6.15.20//NONSGML v1.0//EN
CALSCALE:GREGORIAN
METHOD:PUBLISH
X-WR-CALNAME:FutureCite
X-ORIGINAL-URL:https://demo.futurecite.ai
X-WR-CALDESC:Events for FutureCite
REFRESH-INTERVAL;VALUE=DURATION:PT1H
X-Robots-Tag:noindex
X-PUBLISHED-TTL:PT1H
BEGIN:VTIMEZONE
TZID:America/Edmonton
BEGIN:DAYLIGHT
TZOFFSETFROM:-0700
TZOFFSETTO:-0600
TZNAME:MDT
DTSTART:20180311T090000
END:DAYLIGHT
BEGIN:STANDARD
TZOFFSETFROM:-0600
TZOFFSETTO:-0700
TZNAME:MST
DTSTART:20181104T080000
END:STANDARD
BEGIN:DAYLIGHT
TZOFFSETFROM:-0700
TZOFFSETTO:-0600
TZNAME:MDT
DTSTART:20190310T090000
END:DAYLIGHT
BEGIN:STANDARD
TZOFFSETFROM:-0600
TZOFFSETTO:-0700
TZNAME:MST
DTSTART:20191103T080000
END:STANDARD
BEGIN:DAYLIGHT
TZOFFSETFROM:-0700
TZOFFSETTO:-0600
TZNAME:MDT
DTSTART:20200308T090000
END:DAYLIGHT
BEGIN:STANDARD
TZOFFSETFROM:-0600
TZOFFSETTO:-0700
TZNAME:MST
DTSTART:20201101T080000
END:STANDARD
END:VTIMEZONE
BEGIN:VEVENT
DTSTART;TZID=America/Edmonton:20191114T180000
DTEND;TZID=America/Edmonton:20191114T200000
DTSTAMP:20260421T173317
CREATED:20191112T014709Z
LAST-MODIFIED:20191112T014758Z
UID:9262-1573754400-1573761600@demo.futurecite.ai
SUMMARY:Sobey Art Awards - Event at AGA
DESCRIPTION:Sobey Art Award\n\n\n\n\n\n\n\n\nDiscover the shortlisted artists for the 2019 Sobey Art Award! \nStephanie Comilang\, Nicolas Grenier\, Kablusiak\, Anne Low and D’Arcy Wilson are this year’s shortlisted artists. \nEstablished in 2002\, the Sobey Art Award aims to promote new developments in contemporary Canadian art and provide opportunities for artists\, bringing them national and international attention. \nThe program represents a total commitment of more than $650\,000 CA annually. This year it will present $240\,000 in prize money — including a top prize of $100\,000 for the winner. Each of the four finalists will receive $25\,000\, and the other longlisted artists will receive $2\,000 each. In addition to monetary awards\, three artists from the longlist will be selected by the jury to take part in the Sobey Art Award Residencies Program. Finally\, one shortlisted artist will be selected by Fogo Island Arts to attend an annual residency. \n\n\n\nChampions of Art in Canada: the 2018 Sobey Art Award\n\n\n\n\n\n\nChris Hampton\n\n\n\n\nNovember 14\, 2018\n\n\n\n\n\n\nFor one evening at the beginning of October\, in the Austrian birthplace of Mozart and home of the popular von Trapp family\, Canadian art was the talk of the Salzburger Kunstverein. Although the local members of the public and the group of European journalists present might not know Whitehorse from Winnipeg\, they gathered to hear Josée Drouin-Brisebois\, Senior Curator of Contemporary Art at the National Gallery of Canada and Chair of the 2018 Sobey Art Award\, discuss the practices of the five Canadian artists selected from regions across the country as finalists for one of Canada’s richest and most prestigious art awards. \nOne focus of Drouin-Brisebois’ presentation was the growing role of such art prizes within curatorial work and among cultural institutions looking to help develop the profile of their artists beyond national borders. This was of particular interest to the audience at the Kunstverein\, one of Austria’s oldest art galleries of contemporary art. “Maybe the best way to draw greater attention to Canadian artists is by also giving them greater visibility outside of Canada\, by increasing their international presence\,” Drouin-Brisebois commented back in Ottawa. “What kinds of opportunities could that lead to?” \n2019 SOBEY ART AWARD GALA  \nRob Sobey\, Chair\, Sobey Art Foundation; Catherine Crowston\, Executive Director and Chief Curator of the Art Gallery of Alberta; Françoise E. Lyon\, Chair\, Board of Trustees\, National Gallery of Canada; and Sasha Suda\, PhD\, Director and CEO\, National Gallery of Canada\, cordially invite you to the 2019 Sobey Art Award Gala at the Art Gallery of Alberta. \nOn this special evening\, artists\, curators\, donors and other contemporary art lovers from across Canada will gather to celebrate the shortlisted artists and discover the name of this year’s winner of the Sobey Art Award. \nFriday 15 November 2019 \nCOCKTAIL RECEPTION at 6 pm\nSpeeches at 7 pm\nArt Gallery of Alberta\nEdmonton\, AB \nInvitation only to Donors of the Alberta Art Gallery
URL:https://demo.futurecite.ai/event/9262/
LOCATION:Art Gallery of Alberta
CATEGORIES:Entertainment,Human Talent,Innovation,LifeStyle,Living,The Arts
ATTACH;FMTTYPE=image/jpeg:https://demo.futurecite.ai/wp-content/uploads/2019/11/banner-1024.jpg
END:VEVENT
BEGIN:VEVENT
DTSTART;TZID=America/Edmonton:20191024T180000
DTEND;TZID=America/Edmonton:20191024T220000
DTSTAMP:20260421T173317
CREATED:20190915T021252Z
LAST-MODIFIED:20190915T021252Z
UID:8835-1571940000-1571954400@demo.futurecite.ai
SUMMARY:StartUP Launch Party 10
DESCRIPTION:Description\n\n\n\nJoin us for the tenth annual edition of Launch Party Edmonton\, the city’s flagship startup event that celebrates and showcases the hottest startups in town. \nLaunch Party gives you the opportunity to meet our city’s brightest entrepreneurs\, try their products\, and celebrate everything that our startup community has to offer. Launch Party is a flagship event of Edmonton Startup Week and showcases the hottest startups in town. Since 2010\, more than 85 technology companies have launched products at the event\, including rapidly growing teams like ZEPT\, Jobber\, Drivewyze\, Poppy Barley\, and Showbie. \nLaunch Party isn’t your typical networking event or trade show. It’s a party designed to celebrate and showcase the rockstar entrepreneurs in our community. Drinks\, DJs\, and great company all await you at Launch Party! \nAbout Startup Edmonton:  \nWe want to see more tech-enabled companies start and scale in Edmonton! \nSupporting entrepreneurs as they build and grow tech-enabled products & companies is at the heart of Startup Edmonton. We know that technology touches every aspect of our lives; and Edmonton is brimming with bright\, ambitious\, and hard-working people that are tackling challenges every day with the incredible opportunities that technology brings. \nWe help in four ways: Mentorship\, Programs\, Talent and Student Engagement\, and Community. \nSince 2009\, we have brought together entrepreneurs\, developers\, students\, founders\, mentors\, and investors to transform ideas into some of Canada’s most exciting and successful startup and scaling companies. Startup Edmonton is managed by Innovate Edmonton\, a division of EEDC. Innovate Edmonton supports our city’s most driven tech-sector entrepreneurs and visionaries. The division’s purpose is to help founders and their teams bring ground-breaking ideas to market – whether as a startup or a high-potential scaleup – by bringing together the right people\, resources and funding. For more information\, visit edmonton.com/innovate. \n\nWho Should Come? \nLaunch Party is for everyone in the community – students\, media\, investors\, entrepreneurs\, designers\, makers – if you’re interested in starting\, growing and supporting local startups\, then Launch Party is the place to be! \nRefund Policy \nTickets to Launch Party 10 are fully transferable! If you’re unable to attend after purchasing\, we encourage you to pass along your tickets to a friend or colleague. \nStartup Edmonton will not issue refunds Launch Party 10. Before purchasing your tickets\, it is your responsibility to carefully review all aspects of the event\, event restrictions\, dates\, pricing\, and fees. Startup Edmonton will issue refunds if Launch Party 10 is cancelled. Refunds will be issued using the same method of payment that was used to purchase the tickets via Eventbrite. \nDate and Time\n\nThu\, 24 October 2019 \n6:00 PM – 10:00 PM MDT \nAdd to Calendar \n\nLocation\n\nEdmonton Convention Centre \n9797 Jasper Avenue \nEdmonton\, AB T5J 1N9 \nView Map \n\nCode of Conduct \nStartup Edmonton is dedicated to providing a safe\, harassment-free environment for all events. We invite you to help us make this space a place that is welcoming and respectful for all participants\, regardless of race\, gender\, age\, sexual orientation\, disability\, physical appearance\, body size\, national origin\, ethnicity\, or religion. We expect all participants — attendees\, speakers\, sponsors\, exhibitors\, organizers and volunteers — to treat others with respect and abide by the following Code of Conduct at all times. This includes social events at off-site locations\, online activities and social media before\, during and after the event. Click to read our full Code of Conduct.
URL:https://demo.futurecite.ai/event/startup-launch-party-10/
LOCATION:Edmonton Convention Centre
CATEGORIES:Entertainment,Entrepreneurs,Human Talent,Industry,Innovation,Networking,Science,Small Business,Technology
END:VEVENT
BEGIN:VEVENT
DTSTART;TZID=America/Edmonton:20191024T180000
DTEND;TZID=America/Edmonton:20191024T220000
DTSTAMP:20260421T173317
CREATED:20190915T021252Z
LAST-MODIFIED:20190915T021252Z
UID:13808-1571940000-1571954400@demo.futurecite.ai
SUMMARY:StartUP Launch Party 10
DESCRIPTION:Description\n\n\n\nJoin us for the tenth annual edition of Launch Party Edmonton\, the city’s flagship startup event that celebrates and showcases the hottest startups in town. \nLaunch Party gives you the opportunity to meet our city’s brightest entrepreneurs\, try their products\, and celebrate everything that our startup community has to offer. Launch Party is a flagship event of Edmonton Startup Week and showcases the hottest startups in town. Since 2010\, more than 85 technology companies have launched products at the event\, including rapidly growing teams like ZEPT\, Jobber\, Drivewyze\, Poppy Barley\, and Showbie. \nLaunch Party isn’t your typical networking event or trade show. It’s a party designed to celebrate and showcase the rockstar entrepreneurs in our community. Drinks\, DJs\, and great company all await you at Launch Party! \nAbout Startup Edmonton:  \nWe want to see more tech-enabled companies start and scale in Edmonton! \nSupporting entrepreneurs as they build and grow tech-enabled products & companies is at the heart of Startup Edmonton. We know that technology touches every aspect of our lives; and Edmonton is brimming with bright\, ambitious\, and hard-working people that are tackling challenges every day with the incredible opportunities that technology brings. \nWe help in four ways: Mentorship\, Programs\, Talent and Student Engagement\, and Community. \nSince 2009\, we have brought together entrepreneurs\, developers\, students\, founders\, mentors\, and investors to transform ideas into some of Canada’s most exciting and successful startup and scaling companies. Startup Edmonton is managed by Innovate Edmonton\, a division of EEDC. Innovate Edmonton supports our city’s most driven tech-sector entrepreneurs and visionaries. The division’s purpose is to help founders and their teams bring ground-breaking ideas to market – whether as a startup or a high-potential scaleup – by bringing together the right people\, resources and funding. For more information\, visit edmonton.com/innovate. \n\nWho Should Come? \nLaunch Party is for everyone in the community – students\, media\, investors\, entrepreneurs\, designers\, makers – if you’re interested in starting\, growing and supporting local startups\, then Launch Party is the place to be! \nRefund Policy \nTickets to Launch Party 10 are fully transferable! If you’re unable to attend after purchasing\, we encourage you to pass along your tickets to a friend or colleague. \nStartup Edmonton will not issue refunds Launch Party 10. Before purchasing your tickets\, it is your responsibility to carefully review all aspects of the event\, event restrictions\, dates\, pricing\, and fees. Startup Edmonton will issue refunds if Launch Party 10 is cancelled. Refunds will be issued using the same method of payment that was used to purchase the tickets via Eventbrite. \nDate and Time\n\nThu\, 24 October 2019 \n6:00 PM – 10:00 PM MDT \nAdd to Calendar \n\nLocation\n\nEdmonton Convention Centre \n9797 Jasper Avenue \nEdmonton\, AB T5J 1N9 \nView Map \n\nCode of Conduct \nStartup Edmonton is dedicated to providing a safe\, harassment-free environment for all events. We invite you to help us make this space a place that is welcoming and respectful for all participants\, regardless of race\, gender\, age\, sexual orientation\, disability\, physical appearance\, body size\, national origin\, ethnicity\, or religion. We expect all participants — attendees\, speakers\, sponsors\, exhibitors\, organizers and volunteers — to treat others with respect and abide by the following Code of Conduct at all times. This includes social events at off-site locations\, online activities and social media before\, during and after the event. Click to read our full Code of Conduct.
URL:https://demo.futurecite.ai/event/startup-launch-party-10-2/
LOCATION:Edmonton Convention Centre
CATEGORIES:Entertainment,Entrepreneurs,Human Talent,Industry,Innovation,Networking,Science,Small Business,Technology
END:VEVENT
BEGIN:VEVENT
DTSTART;TZID=America/Edmonton:20191024T170000
DTEND;TZID=America/Edmonton:20191024T190000
DTSTAMP:20260421T173317
CREATED:20190915T023451Z
LAST-MODIFIED:20190915T023451Z
UID:13811-1571936400-1571943600@demo.futurecite.ai
SUMMARY:Small Business Week Showcase & Social
DESCRIPTION:Showcase and Social\, Presented by BDC\nOctober 24\, 2019 5:00 PM – 7:00 PM\nJW Marriot Edmonton ICE District10344 102 StEdmonton\, Alberta T5J 0K9\n  \n\nShowcase and Social is an evening full of networking and celebrating the achievements of YEG’s small business community. It’s your perfect opportunity to connect with fellow business owners and entrepreneurs in Edmonton’s vibrant business community. While mixing and mingling\, network with potential partners as you tour the exhibitor showcase featuring fellow entrepreneurs’ businesses. \nInterested in being an Exhibitor at the SBW Showcase and Social? Register your exhibitor booth today!  \nThis event also gives guests the opportunity to explore the new JW Marriott Edmonton ICE District– a modern\, luxury hotel in the heart of Edmonton’s ICE District. \nTickets:\nMembers: $15\nGeneral admission: $30 \nExhibitor Booth*:\nMembers: $185\nGeneral admission: $300 \n*Not-for-profit booth rates are also available – limited quantities apply\, please contact events@edmontonchamber.com \n\nIf you are an Edmonton Chamber of Commerce member or have a web account please login.Register Today to Secure Your Seat
URL:https://demo.futurecite.ai/event/small-business-week-showcase-social-2/
LOCATION:JW Marriott Hotel\, 10344 102 St NW\,\, Edmonton\,\, AB\, T5J 0K9\, Canada
CATEGORIES:Entertainment,Entrepreneurs,Industry,Leadership,Networking,Small Business
END:VEVENT
BEGIN:VEVENT
DTSTART;TZID=America/Edmonton:20191024T170000
DTEND;TZID=America/Edmonton:20191024T190000
DTSTAMP:20260421T173317
CREATED:20190915T023451Z
LAST-MODIFIED:20190915T023451Z
UID:8843-1571936400-1571943600@demo.futurecite.ai
SUMMARY:Small Business Week Showcase & Social
DESCRIPTION:Showcase and Social\, Presented by BDC\nOctober 24\, 2019 5:00 PM – 7:00 PM\nJW Marriot Edmonton ICE District10344 102 StEdmonton\, Alberta T5J 0K9\n  \n\nShowcase and Social is an evening full of networking and celebrating the achievements of YEG’s small business community. It’s your perfect opportunity to connect with fellow business owners and entrepreneurs in Edmonton’s vibrant business community. While mixing and mingling\, network with potential partners as you tour the exhibitor showcase featuring fellow entrepreneurs’ businesses. \nInterested in being an Exhibitor at the SBW Showcase and Social? Register your exhibitor booth today!  \nThis event also gives guests the opportunity to explore the new JW Marriott Edmonton ICE District– a modern\, luxury hotel in the heart of Edmonton’s ICE District. \nTickets:\nMembers: $15\nGeneral admission: $30 \nExhibitor Booth*:\nMembers: $185\nGeneral admission: $300 \n*Not-for-profit booth rates are also available – limited quantities apply\, please contact events@edmontonchamber.com \n\nIf you are an Edmonton Chamber of Commerce member or have a web account please login.Register Today to Secure Your Seat
URL:https://demo.futurecite.ai/event/small-business-week-showcase-social/
LOCATION:JW Marriott Hotel\, 10344 102 St NW\,\, Edmonton\,\, AB\, T5J 0K9\, Canada
CATEGORIES:Entertainment,Entrepreneurs,Industry,Leadership,Networking,Small Business
END:VEVENT
BEGIN:VEVENT
DTSTART;TZID=America/Edmonton:20190926T180000
DTEND;TZID=America/Edmonton:20190926T220000
DTSTAMP:20260421T173317
CREATED:20190913T222556Z
LAST-MODIFIED:20190913T222556Z
UID:13782-1569520800-1569535200@demo.futurecite.ai
SUMMARY:EPL Gala
DESCRIPTION:An Evening with General Rick Hillier\nSupport EPL and help make a tremendous impact in your community. All proceeds from the evening will support the revitalization of the Stanley A. Milner Library\, one of Edmonton’s most loved and best used community services. \nJoin us at 6 p.m. on Thursday\, September 26 at the Edmonton EXPO Centre for a sit-down dinner\, silent auction\, and keynote speech by General Rick Hillier\, one of Canada’s most celebrated leaders. \nEvent Details\nEdmonton EXPO Centre from 6 to 10 p.m.\nIndividual tickets – $250 each\nTable of ten – $2\,250\nSponsored table of ten – $3\,000 \nSponsorship packages are still available! Please contact Narissa Kanji to learn more and confirm your sponsorship package.
URL:https://demo.futurecite.ai/event/epl-gala-2/
LOCATION:Edmonton Expo Centre
CATEGORIES:Education,Entertainment,Learning,The Arts
END:VEVENT
BEGIN:VEVENT
DTSTART;TZID=America/Edmonton:20190926T180000
DTEND;TZID=America/Edmonton:20190926T220000
DTSTAMP:20260421T173317
CREATED:20190913T222556Z
LAST-MODIFIED:20190913T222556Z
UID:8766-1569520800-1569535200@demo.futurecite.ai
SUMMARY:EPL Gala
DESCRIPTION:An Evening with General Rick Hillier\nSupport EPL and help make a tremendous impact in your community. All proceeds from the evening will support the revitalization of the Stanley A. Milner Library\, one of Edmonton’s most loved and best used community services. \nJoin us at 6 p.m. on Thursday\, September 26 at the Edmonton EXPO Centre for a sit-down dinner\, silent auction\, and keynote speech by General Rick Hillier\, one of Canada’s most celebrated leaders. \nEvent Details\nEdmonton EXPO Centre from 6 to 10 p.m.\nIndividual tickets – $250 each\nTable of ten – $2\,250\nSponsored table of ten – $3\,000 \nSponsorship packages are still available! Please contact Narissa Kanji to learn more and confirm your sponsorship package.
URL:https://demo.futurecite.ai/event/epl-gala/
LOCATION:Edmonton Expo Centre
CATEGORIES:Education,Entertainment,Learning,The Arts
END:VEVENT
BEGIN:VEVENT
DTSTART;TZID=America/Edmonton:20190818T090000
DTEND;TZID=America/Edmonton:20190818T130000
DTSTAMP:20260421T173317
CREATED:20190710T224247Z
LAST-MODIFIED:20190710T224247Z
UID:13752-1566118800-1566133200@demo.futurecite.ai
SUMMARY:60th Annual Sourdough Raft Race - New Date!
DESCRIPTION:JOIN US FOR THE 60th ANNUAL RAFT RACE!! \n  \nRafts launch from Terwillegar Park at 11:00AM.  See Website for Raft Race Entry Info and How to Build a Raft! \nTOONIE PANCAKE BREAKFAST\nserved at Terwillegar Park starting at 9:00AM\nEveryone Welcome!
URL:https://demo.futurecite.ai/event/60th-annual-sourdough-raft-race-2/
LOCATION:Terwillegar Park\, 10 Rabbit Hill Road\,NW\, Edmonton\, Alberta\, T6R 0R7\, Canada
CATEGORIES:Adventures,Contest,Entertainment,Family,Food,LifeStyle,Sports,Travel
ATTACH;FMTTYPE=image/jpeg:https://demo.futurecite.ai/wp-content/uploads/2019/07/Gallery-Image-021.jpg
END:VEVENT
BEGIN:VEVENT
DTSTART;TZID=America/Edmonton:20190818T090000
DTEND;TZID=America/Edmonton:20190818T130000
DTSTAMP:20260421T173317
CREATED:20190710T224247Z
LAST-MODIFIED:20190723T063601Z
UID:8260-1566118800-1566133200@demo.futurecite.ai
SUMMARY:60th Annual Sourdough Raft Race - New Date!
DESCRIPTION:JOIN US FOR THE 60th ANNUAL RAFT RACE!! \n  \nRafts launch from Terwillegar Park at 11:00AM.  See Website for Raft Race Entry Info and How to Build a Raft! \nTOONIE PANCAKE BREAKFAST\nserved at Terwillegar Park starting at 9:00AM\nEveryone Welcome!
URL:https://demo.futurecite.ai/event/60th-annual-sourdough-raft-race/
LOCATION:Terwillegar Park\, 10 Rabbit Hill Road\,NW\, Edmonton\, Alberta\, T6R 0R7\, Canada
CATEGORIES:Adventures,Contest,Entertainment,Family,Food,LifeStyle,Sports,Travel
ATTACH;FMTTYPE=image/jpeg:https://demo.futurecite.ai/wp-content/uploads/2019/07/Gallery-Image-021.jpg
END:VEVENT
BEGIN:VEVENT
DTSTART;TZID=America/Edmonton:20190810T100000
DTEND;TZID=America/Edmonton:20190810T150000
DTSTAMP:20260421T173317
CREATED:20190710T225911Z
LAST-MODIFIED:20190710T225911Z
UID:13753-1565431200-1565449200@demo.futurecite.ai
SUMMARY:EPCOR RiverFest in Edmonton
DESCRIPTION:WATER ACTIVITIES: Edmonton\nChoose your boat! \nTaking place at Edmonton’s beautiful Laurier Park along the banks of the North Saskatchewan River\, this EPCOR RiverFest location offers three boat times to get you on the water. When you purchase your ticket\, you’ll select your type of boat/activity and time slot. All participants must read and sign the corresponding waiver(s) prior to getting on the water.\nStarting at Sir Wilfrid Laurier Park (where you will park) a shuttle bus will take you to Terwillegar Park and you’ll float back to Laurier Park.\n\nWATER ACTIVITIES: Devon\nSee RiverFest website for details and updates\n\nLAND ACTIVITIES: Edmonton & Devon\nSee RiverFest website for updates!
URL:https://demo.futurecite.ai/event/epcor-riverfest-in-edmonton-2/
LOCATION:Terwillegar Park\, 10 Rabbit Hill Road\,NW\, Edmonton\, Alberta\, T6R 0R7\, Canada
CATEGORIES:Adventures,Entertainment,Family,LifeStyle,Living,Raft Racing,River Valley,Sports,Travel
ATTACH;FMTTYPE=image/jpeg:https://demo.futurecite.ai/wp-content/uploads/2019/07/3.-Large-Raft1.jpg
END:VEVENT
BEGIN:VEVENT
DTSTART;TZID=America/Edmonton:20190810T100000
DTEND;TZID=America/Edmonton:20190810T150000
DTSTAMP:20260421T173317
CREATED:20190710T225911Z
LAST-MODIFIED:20190710T225911Z
UID:8270-1565431200-1565449200@demo.futurecite.ai
SUMMARY:EPCOR RiverFest in Edmonton
DESCRIPTION:WATER ACTIVITIES: Edmonton\nChoose your boat! \nTaking place at Edmonton’s beautiful Laurier Park along the banks of the North Saskatchewan River\, this EPCOR RiverFest location offers three boat times to get you on the water. When you purchase your ticket\, you’ll select your type of boat/activity and time slot. All participants must read and sign the corresponding waiver(s) prior to getting on the water.\nStarting at Sir Wilfrid Laurier Park (where you will park) a shuttle bus will take you to Terwillegar Park and you’ll float back to Laurier Park.\n\nWATER ACTIVITIES: Devon\nSee RiverFest website for details and updates\n\nLAND ACTIVITIES: Edmonton & Devon\nSee RiverFest website for updates!
URL:https://demo.futurecite.ai/event/epcor-riverfest-in-edmonton/
LOCATION:Terwillegar Park\, 10 Rabbit Hill Road\,NW\, Edmonton\, Alberta\, T6R 0R7\, Canada
CATEGORIES:Adventures,Entertainment,Family,LifeStyle,Living,Raft Racing,River Valley,Sports,Travel
ATTACH;FMTTYPE=image/jpeg:https://demo.futurecite.ai/wp-content/uploads/2019/07/3.-Large-Raft1.jpg
END:VEVENT
BEGIN:VEVENT
DTSTART;TZID=America/Edmonton:20190718T110000
DTEND;TZID=America/Edmonton:20190727T230000
DTSTAMP:20260421T173317
CREATED:20190710T231554Z
LAST-MODIFIED:20190710T231554Z
UID:13754-1563447600-1564268400@demo.futurecite.ai
SUMMARY:Taste of Edmonton Festival
DESCRIPTION:35 YEARS OF TASTE OF EDMONTON\n35 years and RETURNING TO CAPITAL PLAZA (99 AVE & 108 ST)\nTaste of Edmonton is better than ever! Come sample more than 80 different dishes from cuisines around the world! \nA selection of Edmonton’s best\, newest\, hippest\, and classic favorite restaurants will be represented along with almost a dozen food trucks. \nWe’ve expanded the licenced area for 2019! \n92 Food Samples\, and 30 Canadian Artists \n 
URL:https://demo.futurecite.ai/event/taste-of-edmonton-festival-2/
LOCATION:Capital Plaza\, 99th Avenue & 108 Street\, Edmonton\, Alberta\, Canada
CATEGORIES:Entertainment,Family,Food,LifeStyle,Living,Music
ATTACH;FMTTYPE=image/jpeg:https://demo.futurecite.ai/wp-content/uploads/2019/07/13528634_1099553946769543_4039659283777892998_o1.jpg
END:VEVENT
BEGIN:VEVENT
DTSTART;TZID=America/Edmonton:20190718T110000
DTEND;TZID=America/Edmonton:20190727T230000
DTSTAMP:20260421T173317
CREATED:20190710T231554Z
LAST-MODIFIED:20190710T231554Z
UID:8275-1563447600-1564268400@demo.futurecite.ai
SUMMARY:Taste of Edmonton Festival
DESCRIPTION:35 YEARS OF TASTE OF EDMONTON\n35 years and RETURNING TO CAPITAL PLAZA (99 AVE & 108 ST)\nTaste of Edmonton is better than ever! Come sample more than 80 different dishes from cuisines around the world! \nA selection of Edmonton’s best\, newest\, hippest\, and classic favorite restaurants will be represented along with almost a dozen food trucks. \nWe’ve expanded the licenced area for 2019! \n92 Food Samples\, and 30 Canadian Artists \n 
URL:https://demo.futurecite.ai/event/taste-of-edmonton-festival/
LOCATION:Capital Plaza\, 99th Avenue & 108 Street\, Edmonton\, Alberta\, Canada
CATEGORIES:Entertainment,Family,Food,LifeStyle,Living,Music
ATTACH;FMTTYPE=image/jpeg:https://demo.futurecite.ai/wp-content/uploads/2019/07/13528634_1099553946769543_4039659283777892998_o1.jpg
END:VEVENT
END:VCALENDAR