BEGIN:VCALENDAR
VERSION:2.0
PRODID:-//FutureCite - ECPv6.15.20//NONSGML v1.0//EN
CALSCALE:GREGORIAN
METHOD:PUBLISH
X-WR-CALNAME:FutureCite
X-ORIGINAL-URL:https://demo.futurecite.ai
X-WR-CALDESC:Events for FutureCite
REFRESH-INTERVAL;VALUE=DURATION:PT1H
X-Robots-Tag:noindex
X-PUBLISHED-TTL:PT1H
BEGIN:VTIMEZONE
TZID:America/Edmonton
BEGIN:DAYLIGHT
TZOFFSETFROM:-0700
TZOFFSETTO:-0600
TZNAME:MDT
DTSTART:20200308T090000
END:DAYLIGHT
BEGIN:STANDARD
TZOFFSETFROM:-0600
TZOFFSETTO:-0700
TZNAME:MST
DTSTART:20201101T080000
END:STANDARD
BEGIN:DAYLIGHT
TZOFFSETFROM:-0700
TZOFFSETTO:-0600
TZNAME:MDT
DTSTART:20210314T090000
END:DAYLIGHT
BEGIN:STANDARD
TZOFFSETFROM:-0600
TZOFFSETTO:-0700
TZNAME:MST
DTSTART:20211107T080000
END:STANDARD
BEGIN:DAYLIGHT
TZOFFSETFROM:-0700
TZOFFSETTO:-0600
TZNAME:MDT
DTSTART:20220313T090000
END:DAYLIGHT
BEGIN:STANDARD
TZOFFSETFROM:-0600
TZOFFSETTO:-0700
TZNAME:MST
DTSTART:20221106T080000
END:STANDARD
END:VTIMEZONE
BEGIN:VEVENT
DTSTART;TZID=America/Edmonton:20210224T150000
DTEND;TZID=America/Edmonton:20210224T170000
DTSTAMP:20260422T231650
CREATED:20210122T005004Z
LAST-MODIFIED:20210122T005004Z
UID:15005-1614178800-1614186000@demo.futurecite.ai
SUMMARY:The future of IoT in healthcare
DESCRIPTION:With health at the top of our minds\, many are beginning to acknowledge the power that the Internet of Things can play on the accessibility of quality healthcare and innovative practices. \nWhat To expect: \n\nHear how IoT and emerging technology are providing solutions\, gathering data and supporting business decisions\nGain an understanding of the challenges in the health space through in-depth conversation\nSynergistic networking opportunities with key stakeholders in the Health sector\n\nAgenda: \n\n3:00pm – opening remarks\n3:05pm – Microsoft keynote\n3:40pm – panel discussion with Smartone\, Glenrose and W21C (featuring our very own Raja Mita as panel moderator).\n4:10pm – Ellis Don feature\n4:40pm – breakout sessions\n5:00pm – closing remarks\n\nFeb 24\, 2021\n3:00 pm – 5:00 pm
URL:https://demo.futurecite.ai/event/the-future-of-iot-in-healthcare/
LOCATION:Virtual Online
CATEGORIES:AI / ML / Data Science,Consumer Goods & Retail,Digital Transformation,Entrepreneurs,Health,Innovation,IoT,Networking,Research,Small Business,Technology,Webinar
END:VEVENT
BEGIN:VEVENT
DTSTART;TZID=America/Edmonton:20210204T170000
DTEND;TZID=America/Edmonton:20210204T183000
DTSTAMP:20260422T231650
CREATED:20210203T203245Z
LAST-MODIFIED:20210203T203245Z
UID:15101-1612458000-1612463400@demo.futurecite.ai
SUMMARY:TNT CleanTech Top 20 Pitch Night & SK Top 20 Pitch Nigh
DESCRIPTION:Feb 4th –  Simultaneous TNT Cleantech Top 20 Pitch Night I x SK Top 20 Pitch Night I.  Say whaaaat?  Two Top 20 pitch nights at the same time!  How is that even possible?  I can’t even begin to imagine how many zoom accounts must be required.  Good thing we’ve got an actual organizer these days. \n\nThe Alberta Cleantech Investment Summit is on now\, and we’re raising $100\,000+ for a local company while also training new investors to become confident angels. \nAs part of the due diligence process\, and to show everyone the great companies that we have growing in Alberta\, the top 20 companies will get 3 minutes to pitch to the investors in a public virtual forum on Feb 4th and 11th. Each night 10 companies will pitch. Make sure to register for both nights! \nFeb 4th \n\nCarbonova\nWinecrush Tech.\nWA-VE\nEZ Ops\nZS2 Technologies\nZILA Works\nRuth\nThe Harvest Hub\nVermillion Power Tech.\nCeres Solutions\n\nCome support these incredible companies being built right here at home! After the event everyone will have the chance to join our virtual happy hour on Discord and chat with the entrepreneurs and investors. \n\n\n\nAbout the summit \nOur investment summits provide a fun\, approachable way to become an angel investor or to raise capital for your early-stage tech startup. It’s equal parts fundraising\, educating and community building. \n\n 
URL:https://demo.futurecite.ai/event/tnt-cleantech-top-20-pitch-night-sk-top-20-pitch-nigh/
LOCATION:Virtual Online
CATEGORIES:Agriculture,CleanTech,Entrepreneurs,Industry,Innovation,IoT,Networking,Pitch Competition,Small Business,STEME,Sustainability,Technology,Webinar
ORGANIZER;CN="TNT":MAILTO:zstorms@ualberta.ca
END:VEVENT
BEGIN:VEVENT
DTSTART;TZID=America/Edmonton:20210127T150000
DTEND;TZID=America/Edmonton:20210127T173000
DTSTAMP:20260422T231650
CREATED:20210122T004533Z
LAST-MODIFIED:20210122T004533Z
UID:15003-1611759600-1611768600@demo.futurecite.ai
SUMMARY:The Internet of things – intelligent buildings
DESCRIPTION:Much like smart cities\, intelligent buildings present many opportunities for enhanced citizen engagement\, improved quality of life\, and efficient building management. \nWhat new solutions are being implemented and where do opportunities for further innovation exist? \nWe are proud to bring together key decision makers and subject matter experts in the construction sector to educate\, collaborate and support new business opportunities. \nWhat to expect: \n\nGain a new understanding on IoT trends in the construction industry\, both from the perspective of the service providers and the property owners.\nAn opportunity to engage in conversation in facilitated breakout sessions and network with other professionals.\n\nAgenda: \n\n3:00pm – Opening remarks\n3:05pm – keynote speaker: PCL\n3:40pm – panel discussion with speakers from Eddy Solutions\, Rogers Communications\, and Genetec\n4:20pm – feature speaker: Manulife Investment Management\n4:40 pm – keynote speaker: Ellis Don\n5:15pm – breakout rooms\n5:35pm – closing remarks\n\nAlberta Innovates is a proud sponsor of Alberta IoT
URL:https://demo.futurecite.ai/event/the-internet-of-things-intelligent-buildings/
LOCATION:Virtual Online
CATEGORIES:AI / ML / Data Science,Conference,Construction,Digital Transformation,Entrepreneurs,Industry,Innovation,IoT,IoT,Living,Real Estate,Small Business,Technology,Webinar
END:VEVENT
END:VCALENDAR