BEGIN:VCALENDAR
VERSION:2.0
PRODID:-//FutureCite - ECPv6.15.20//NONSGML v1.0//EN
CALSCALE:GREGORIAN
METHOD:PUBLISH
X-ORIGINAL-URL:https://demo.futurecite.ai
X-WR-CALDESC:Events for FutureCite
REFRESH-INTERVAL;VALUE=DURATION:PT1H
X-Robots-Tag:noindex
X-PUBLISHED-TTL:PT1H
BEGIN:VTIMEZONE
TZID:America/Edmonton
BEGIN:DAYLIGHT
TZOFFSETFROM:-0700
TZOFFSETTO:-0600
TZNAME:MDT
DTSTART:20200308T090000
END:DAYLIGHT
BEGIN:STANDARD
TZOFFSETFROM:-0600
TZOFFSETTO:-0700
TZNAME:MST
DTSTART:20201101T080000
END:STANDARD
BEGIN:DAYLIGHT
TZOFFSETFROM:-0700
TZOFFSETTO:-0600
TZNAME:MDT
DTSTART:20210314T090000
END:DAYLIGHT
BEGIN:STANDARD
TZOFFSETFROM:-0600
TZOFFSETTO:-0700
TZNAME:MST
DTSTART:20211107T080000
END:STANDARD
BEGIN:DAYLIGHT
TZOFFSETFROM:-0700
TZOFFSETTO:-0600
TZNAME:MDT
DTSTART:20220313T090000
END:DAYLIGHT
BEGIN:STANDARD
TZOFFSETFROM:-0600
TZOFFSETTO:-0700
TZNAME:MST
DTSTART:20221106T080000
END:STANDARD
END:VTIMEZONE
BEGIN:VEVENT
DTSTART;TZID=America/Edmonton:20210324T100000
DTEND;TZID=America/Edmonton:20210324T110000
DTSTAMP:20260421T151621
CREATED:20210315T080752Z
LAST-MODIFIED:20210315T080752Z
UID:15414-1616580000-1616583600@demo.futurecite.ai
SUMMARY:Masterclass Series on Intellectual Property for Start-ups: Session 2 -Brand protection in the digital economy
DESCRIPTION:Masterclass Series on Intellectual Property for Start-ups\n\n\n\n\nBDC Capital’s Women in Technology Venture Fund\, in partnership with Smart & Biggar LLP\, invites you to the next Women in Tech (WIT) Masterclass series “Intellectual Property for Start-ups”. \nIn partnership with \nWhat:\nDuring this free\, three-week virtual series the experts at Smart & Biggar LLP will offer practical insights and knowledge to help you gain: \n\nAn understanding of the business value of intellectual property (IP) and impacts for your start-up;\nAn introduction to the different types of IP assets\, including patents\, trademarks\, copyrights and trade secrets; and how they can be used to protect your innovations and create an IP portfolio;\nStrategies on how to build and leverage an IP portfolio for growth in the technology sector;\nAn understanding of best practices for IP management;\nIP Checklist: tips to prepare your start-up for funding\, growth and beyond.\n\n\n\n\n\n\n\nWho:\nThis series is ideally suited for female founders and c-suite executives who are leading a Canadian technology start-up with the following criteria: \n1) venture backed or venture backed shortly; and2) whose intellectual property strategy is crucial to accelerating their business growth. \nWhen:\nThe sessions will be held every Wednesday from 12:00 – 1:00pm EDT from March 17 – 31\, 2021. \n\n\n\n\nSchedule:\nYou can register for one session below or for them all by clicking here – Register \n\n\n\n\n\n\n\n\n\n\n\nMarch 17\, 2021\n12:00 – 1:00pm EDT \n\n\n\n\n1. Intellectual property for growth: Understanding the business value of IP – Register \nDiscussion: General overview of the different type of IP rights relevant to technology companies and how to choose the right type(s) of IP protection. Some common misconceptions about patents as well as how to build a “future-proof” patent portfolio will also be discussed. \n\n\n\n\n\n\n\n\n\n\n\n\n\nMarch 24\, 2021\n12:00 – 1:00pm EDT \n\n\n\n\n2. Brand protection in the digital economy: Beyond the basics – Register \nDiscussion: General overview of the role of trademarks in technology companies\, how to choose powerful trademarks\, how to protect trademarks in a global/digital marketplace and how to create exclusivity in a crowded industry. \n\n\n\n\n\n\n\n\n\n\n\n\n\nMarch 31\, 2021\n12:00 – 1:00pm EDT \n\n\n\n\n3. Managing your IP to enhance your position ahead of a prospective investment or exit – Register \nDiscussion: General overview of the role of IP management in a technology company. How to prepare for a prospective investment or exit including developing/acquiring commercially relevant IP rights and managing third-party risks.
URL:https://demo.futurecite.ai/event/masterclass-series-on-intellectual-property-for-start-ups-session-2-brand-protection-in-the-digital-economy/
LOCATION:Virtual Online
CATEGORIES:AI / ML / Data Science,Entrepreneurs,Industry,Innovation,Learning,Legal,Patents & Trademarks,Small Business,Technology,Webinar
END:VEVENT
BEGIN:VEVENT
DTSTART;TZID=America/Edmonton:20210317T100000
DTEND;TZID=America/Edmonton:20210317T110000
DTSTAMP:20260421T151621
CREATED:20210315T082035Z
LAST-MODIFIED:20210315T082035Z
UID:15421-1615975200-1615978800@demo.futurecite.ai
SUMMARY:Masterclass Series on Intellectual Property for Start-ups: Session 1-Understanding Business Value of IP
DESCRIPTION:Masterclass Series on Intellectual Property for Start-ups\n\n\n\n\nBDC Capital’s Women in Technology Venture Fund\, in partnership with Smart & Biggar LLP\, invites you to the next Women in Tech (WIT) Masterclass series “Intellectual Property for Start-ups”. \nIn partnership with \nWhat:\nDuring this free\, three-week virtual series the experts at Smart & Biggar LLP will offer practical insights and knowledge to help you gain: \n\nAn understanding of the business value of intellectual property (IP) and impacts for your start-up;\nAn introduction to the different types of IP assets\, including patents\, trademarks\, copyrights and trade secrets; and how they can be used to protect your innovations and create an IP portfolio;\nStrategies on how to build and leverage an IP portfolio for growth in the technology sector;\nAn understanding of best practices for IP management;\nIP Checklist: tips to prepare your start-up for funding\, growth and beyond.\n\n\n\n\n\n\n\nWho:\nThis series is ideally suited for female founders and c-suite executives who are leading a Canadian technology start-up with the following criteria: \n1) venture backed or venture backed shortly; and2) whose intellectual property strategy is crucial to accelerating their business growth. \nWhen:\nThe sessions will be held every Wednesday from 12:00 – 1:00pm EDT from March 17 – 31\, 2021. \n\n\n\n\nSchedule:\nYou can register for one session below or for them all by clicking here – Register \n\n\n\n\n\n\n\n\n\n\n\nMarch 17\, 2021\n12:00 – 1:00pm EDT \n\n\n\n\n1. Intellectual property for growth: Understanding the business value of IP – Register \nDiscussion: General overview of the different type of IP rights relevant to technology companies and how to choose the right type(s) of IP protection. Some common misconceptions about patents as well as how to build a “future-proof” patent portfolio will also be discussed. \n\n\n\n\n\n\n\n\n\n\n\n\n\nMarch 24\, 2021\n12:00 – 1:00pm EDT \n\n\n\n\n2. Brand protection in the digital economy: Beyond the basics – Register \nDiscussion: General overview of the role of trademarks in technology companies\, how to choose powerful trademarks\, how to protect trademarks in a global/digital marketplace and how to create exclusivity in a crowded industry. \n\n\n\n\n\n\n\n\n\n\n\n\n\nMarch 31\, 2021\n12:00 – 1:00pm EDT \n\n\n\n\n3. Managing your IP to enhance your position ahead of a prospective investment or exit – Register \nDiscussion: General overview of the role of IP management in a technology company. How to prepare for a prospective investment or exit including developing/acquiring commercially relevant IP rights and managing third-party risks.
URL:https://demo.futurecite.ai/event/masterclass-series-on-intellectual-property-for-start-ups-session-1-understanding-business-value-of-ip/
LOCATION:Virtual Online
CATEGORIES:AI / ML / Data Science,Entrepreneurs,Industry,Innovation,Learning,Legal,Patents & Trademarks,Small Business,Technology,Webinar
END:VEVENT
BEGIN:VEVENT
DTSTART;TZID=America/Edmonton:20210317T080000
DTEND;TZID=America/Edmonton:20210317T170000
DTSTAMP:20260421T151621
CREATED:20210317T184109Z
LAST-MODIFIED:20210317T184109Z
UID:15471-1615968000-1616000400@demo.futurecite.ai
SUMMARY:RainForest LWOL - Managing your Intellectual Property
DESCRIPTION:Curious about what’s happening in the innovation ecosystem in Alberta? \nJoin us at Lunch Without Lunch every Wednesday to hear about the players\, events\, and news that are making our innovation ecosystem thrive. This weekly meeting is a regular check on the pulse of the community\, open to people of any age\, wage\, or stage of company. \nThis month we focus on building a culture of trust. \nHow does a culture of trust play into managing your intellectual property? At this week’s LWOL we will learn the top 3 IP mistakes that entrepreneurs make and how to avoid them! Marnie Fyten is an IP Advisor with the Canadian Intellectual Property Office and will be sharing her knowledge with us. \nCheck out these great videos from CIPO on all things IP! \nAfter the panel discussion\, we will take part in facilitated networking through breakout rooms. \nZoom Link & Password will be provided in your confirmation email. \nRainforest Alberta is a movement\, building community in the tech and innovation ecosystem in the province through opening conversations around culture\, leadership\, and other focus areas.
URL:https://demo.futurecite.ai/event/rainforest-lwol-managing-your-intellectual-property/
LOCATION:Virtual Online
CATEGORIES:Entrepreneurs,Innovation,IP - Trademarks & Patents,Learning,Legal,Networking,Patents & Trademarks,Small Business,Startups,Technology,Webinar
END:VEVENT
END:VCALENDAR