BEGIN:VCALENDAR
VERSION:2.0
PRODID:-//FutureCite - ECPv6.15.20//NONSGML v1.0//EN
CALSCALE:GREGORIAN
METHOD:PUBLISH
X-WR-CALNAME:FutureCite
X-ORIGINAL-URL:https://demo.futurecite.ai
X-WR-CALDESC:Events for FutureCite
REFRESH-INTERVAL;VALUE=DURATION:PT1H
X-Robots-Tag:noindex
X-PUBLISHED-TTL:PT1H
BEGIN:VTIMEZONE
TZID:America/Edmonton
BEGIN:DAYLIGHT
TZOFFSETFROM:-0700
TZOFFSETTO:-0600
TZNAME:MDT
DTSTART:20190310T090000
END:DAYLIGHT
BEGIN:STANDARD
TZOFFSETFROM:-0600
TZOFFSETTO:-0700
TZNAME:MST
DTSTART:20191103T080000
END:STANDARD
BEGIN:DAYLIGHT
TZOFFSETFROM:-0700
TZOFFSETTO:-0600
TZNAME:MDT
DTSTART:20200308T090000
END:DAYLIGHT
BEGIN:STANDARD
TZOFFSETFROM:-0600
TZOFFSETTO:-0700
TZNAME:MST
DTSTART:20201101T080000
END:STANDARD
BEGIN:DAYLIGHT
TZOFFSETFROM:-0700
TZOFFSETTO:-0600
TZNAME:MDT
DTSTART:20210314T090000
END:DAYLIGHT
BEGIN:STANDARD
TZOFFSETFROM:-0600
TZOFFSETTO:-0700
TZNAME:MST
DTSTART:20211107T080000
END:STANDARD
BEGIN:DAYLIGHT
TZOFFSETFROM:-0700
TZOFFSETTO:-0600
TZNAME:MDT
DTSTART:20220313T090000
END:DAYLIGHT
BEGIN:STANDARD
TZOFFSETFROM:-0600
TZOFFSETTO:-0700
TZNAME:MST
DTSTART:20221106T080000
END:STANDARD
END:VTIMEZONE
BEGIN:VEVENT
DTSTART;TZID=America/Edmonton:20210602T160000
DTEND;TZID=America/Edmonton:20210617T173000
DTSTAMP:20260421T154252
CREATED:20210519T001436Z
LAST-MODIFIED:20210519T001436Z
UID:15798-1622649600-1623951000@demo.futurecite.ai
SUMMARY:Take Control of Algorithms\, Data\, and Infrastructure
DESCRIPTION:Take Control of Algorithms\, Data\, and Infrastructure\n\nWednesday June 2\, 2021 4:00pm to 5:30pm \nryerson.zoom.us/j/91941276567 \n\n#2 in CFE Series: Taming Big Tech: Exploring the Alternatives \nMeredith Whittaker​ – In Conversation with Andrew Clement​ \nMeredith Whittaker founded Google’s Open Research Group\, co-founded M-Lab\, and is a Minderoo Research Professor at New York University where she is co-founder and faculty director of the AI Now Institute. She has been an advisor to the White House\, the FCC\, the European Parliament among others on artificial intelligence and internet policy. Join Meredith is conversation with Andrew Clement\, Professor Emeritus in University of Toronto’s Faculty of Information where he coordinates the Information Policy Research Program and co-founded the Identity Privacy and Security Institute. \nCo-sponsors: Edmonton Public Library\, Milton Public Library\, Thunder Bay Public Library\, Toronto Public Library\, Vancouver Public Library \nZoom link to event ryerson.zoom.us/j/91941276567 \nThis is a free event and no registration is required. \nPlease contact cfe@ryerson.ca if you require accommodation to ensure inclusion in this event.
URL:https://demo.futurecite.ai/event/take-control-of-algorithms-data-and-infrastructure/
LOCATION:Virtual Online
CATEGORIES:AI / ML / Data Science,Digital Transformation,Entrepreneurs,Governance,Government,Regulatory,Research,Science,Social Innovation,STEME,Technology,Webinar
END:VEVENT
BEGIN:VEVENT
DTSTART;TZID=America/Edmonton:20210526T100000
DTEND;TZID=America/Edmonton:20210526T110000
DTSTAMP:20260421T154252
CREATED:20210517T072410Z
LAST-MODIFIED:20210517T072410Z
UID:15785-1622023200-1622026800@demo.futurecite.ai
SUMMARY:Master Class: Women in Tech - Board Readiness for Start-ups
DESCRIPTION:BDC Capital’s Women in Technology Venture Fund\, in partnership with Borden Ladner Gervais LLP’s Driven By Women™\, invites you to the Women in Tech (WIT) Masterclass series “Board Governance Readiness for Start-ups – 2nd edition”. \nDriven by demand from the community\, this masterclass will help women in tech leaders build and manage an effective board of directors for their company. The series is ideally suited to female founders and c-suite executives who are leading a Canadian technology start-up with the following criteria: \n\nventure backed or venture backed shortly; and\nhas a board of directors in place or in the process of forming a board of directors\n\nThis is a free\, four-week virtual webinar series. \nStarting May 26\, 2021\nEvery Wednesday\, from 12:00 to 1:00 p.m. (EDT) \nWhat:\nDuring this free\, four-week virtual series the experts at Borden Ladner Gervais LLP’s Driven By WomenTM will offer practical insights and knowledge to help you: \n\ncreate an effective board to support your business;\nexpand your knowledge of the function of corporate governance and how it applies to your organizational structure;\nunderstand how to assess the core competencies of your board and identify deficiencies; and\nattract and compensate a diverse and competent board.\n\nWho:\nThis masterclass is ideally suited to female founders and c-suite executives who are leading a Canadian technology start-up with the following criteria: 1) venture backed or venture backed shortly; and 2) has a board of directors in place or in the process of forming a board of directors. \nWhen:\nThe sessions will be held every Wednesday from 12:00 – 1:00pm EDT from May 26 – June 16\, 2021. \nPlease note that all speaker presentations will be in English only; Q&A sessions will be moderated in English and French. Copies of the speaker presentations will be made available in English and French after the sessions. \nSchedule:\nYou can register for one session below or for them all by clicking here – Register \nMay 26\, 2021\n12:00 – 1:00pm EDT \n1. Governance 101: Role of the Board – Register \nDiscussion: General overview of corporate structure\, fiduciary duties and the role of the board\, corporate policies and procedures\, and authorization matrix. \nJune 2\, 2021\n12:00 – 1:00pm EDT \n2. Risk Management Oversight – Register \nDiscussion: D&O indemnities and insurance\, ESG matters\, emergency response\, and continuation planning. \nJune 9\, 2021\n12:00 – 1:00pm EDT \n3. Board Effectiveness and Inclusive Leadership – Register \nDiscussion: Board skills matrix\, board self-evaluations\, and human resources and compensation. \nJune 16\, 2021\n12:00 – 1:00pm EDT \n4. Exits – The Anatomy of an M&A Transaction – Register \nDiscussion: Overview of an M&A transaction from the confidentiality agreement to closing. \n 
URL:https://demo.futurecite.ai/event/master-class-women-in-tech-board-readiness-for-start-ups/
LOCATION:Virtual Online
CATEGORIES:Course,Entrepreneurs,Finance,Governance,Leadership,Learning,Legal,Regulatory,Small Business,Startups,Technology,Webinar
END:VEVENT
BEGIN:VEVENT
DTSTART;TZID=America/Edmonton:20210415T190000
DTEND;TZID=America/Edmonton:20210415T203000
DTSTAMP:20260421T154252
CREATED:20210407T194055Z
LAST-MODIFIED:20210407T194055Z
UID:15612-1618513200-1618518600@demo.futurecite.ai
SUMMARY:Lougheed College Lecture Series: Dr. Deena Hinshaw
DESCRIPTION:Dr. Deena Hinshaw presents as part of the 2020-21 Lougheed College Lectures\, which has a theme of leadership and public institutions.\n\n\n\n\n\nAbout this Event\n\n\nThe 2020-21 Lougheed College Lecture series is organized around the theme of leadership and public institutions. Governments\, courts\, universities\, cultural institutions\, public health agencies\, financial regulators and other offices charged with ensuring the public good face special scrutiny from the people they serve. We expect our tax-funded institutions to deliver value for money\, and to act ethically and responsibly to ensure citizen well-being. And we have high demands for accountability and responsiveness. What does it take to lead such organizations\, especially when the decisions are fraught and the stakes are high? How do public leaders engage the people they serve in decision-making? How do they address dissent and controversy? What are the consequences of “fake news\,” the growing skepticism around expertise\, and political polarization for the necessary work of serving the public good? Our speakers will tackle these challenging issues with hard-won insights from the front lines. \nDr. Deena Hinshaw address the topic\, Leadership in Public Service: We are all in this together as a featured guest of the Lougheed College Lectures. \nThe COVID-19 pandemic has made our interdependencies more visible and has called each of us to make choices to serve our communities in both formal and informal ways. In this talk\, Dr. Deena Hinshaw will reflect on her experience of leadership in the pandemic\, and the ways that she has\, in her role\, intersected with the leaders who serve their communities every day. Drawing on her work as one of the public faces of Alberta’s response to COVID-19\, she will talk about the different ways in which we can amplify and support each other in sustaining and nurturing healthy communities. \nThis lecture is presented in partnership with the School of Public Health at the University of Alberta. \nBe informed\, challenged\, and inspired by local\, national\, and international leaders from government\, business\, academia\, and the cultural and nonprofit sectors. The Lougheed College Lectures sponsored by Syncrude present exceptional speakers from interdisciplinary backgrounds. They will share their perspectives and insights on the leadership needed to face the complex challenges of the 21st century. \nDate And Time \n\nThu\, April 15\, 2021 \n7:00 PM – 8:30 PM MDT
URL:https://demo.futurecite.ai/event/lougheed-college-lecture-series-dr-deena-hinshaw/
LOCATION:Virtual Online
CATEGORIES:COVID 19,Family,Health,Innovation,Learning,Living,Regulatory,Research,Technology,Webinar
END:VEVENT
BEGIN:VEVENT
DTSTART;TZID=America/Edmonton:20210308T080000
DTEND;TZID=America/Edmonton:20210503T170000
DTSTAMP:20260421T154252
CREATED:20210127T000325Z
LAST-MODIFIED:20210127T000325Z
UID:15040-1615190400-1620061200@demo.futurecite.ai
SUMMARY:Alberta IoT Fast Track Program Cohort 2
DESCRIPTION:Apply to Enrol in the Fast Track Program\n\n\n\nAlberta IoT is dedicated to establishing Alberta as a worldwide leader in the Internet of Things (IoT).\n\n\n\n\n\n\n\n\n\n\n\n\n\nThe Alberta IoT Fast Track is a technology ecosystem program to help established businesses (in Calgary and surrounding areas) in IoT (running IoT as a business or leveraging IoT for their growth) to scale up\, gain access to resources\, and increase collaboration between tech sector businesses\, with the ultimate goal of creating new jobs\, expand operations\, and increasing revenue in Canada and abroad. \nWhat’s Involved\n\n\n\n\nUpcoming Program Dates:\nCohort 1 – January 4 – February 26\, 2021\nCohort 2 – March 8 – May 3\, 2021\nCohort 3 – May 10 – July 5\, 2021 \n\n\n\nTraining Areas\n\nBusiness expansion modelling\nSales & Marketing\nSystems and processes\nSourcing New Digital Technologies\nR&D Process\nPR & Positioning IoT Business Voice To Take Centre Stage\nStrategic Funding and Resource Linking for Global Expansion\nBusiness Collaboration Project Planning\n\n\n\n\nCommitment\nThe Fast Track Program aims to provide the right support systems and education to increase revenue for IoT companies in Alberta and position these businesses to successfully expand globally. \nThis will be achieved through: \n\n8-week live business training program\n1 year mentorship with cohort\nWeekly training sessions with key resource partners\n1:1 coaching sessions over 1 year with quarterly check-ins
URL:https://demo.futurecite.ai/event/alberta-iot-fast-track-program-cohort-2/
CATEGORIES:AI / ML / Data Science,Courses,Digital Transformation,Economy,Entrepreneurs,Industry,IoT,Manufacturing & Exports,Marketing,Networking,Regulatory,Small Business,Technology,Webinar
END:VEVENT
BEGIN:VEVENT
DTSTART;TZID=America/Edmonton:20200430T110000
DTEND;TZID=America/Edmonton:20200430T120000
DTSTAMP:20260421T154252
CREATED:20200421T205156Z
LAST-MODIFIED:20200421T205156Z
UID:10330-1588244400-1588248000@demo.futurecite.ai
SUMMARY:Trust in Transactions: Security & Digital Currency Exchanges
DESCRIPTION:About this Event\n\n\nMajor security and privacy breaches in the world of digital currency exchanges have cost consumers hundreds of millions of dollars\, exposed sensitive information and eroded public trust. However\, this emerging branch of fintech is undergoing a necessary transformation towards safer and more trustworthy exchanges with enhanced cybersecurity and new regulatory oversight for laws like AML and KYC. As more people begin to explore the advantages of digital currencies\, its markets are becoming increasingly standardized\, compliant and secure. A panel of government advisors\, exchange owners and experts will explain how the sector is quickly evolving from the Wild West to something much more like Wall Street. \n 
URL:https://demo.futurecite.ai/event/trust-in-transactions-security-digital-currency-exchanges/
LOCATION:Virtual Online
CATEGORIES:BitCoin,Blockchain,Digital Transformation,Entrepreneurs,Governance,Regulatory,Webinar
END:VEVENT
BEGIN:VEVENT
DTSTART;TZID=America/Edmonton:20200430T110000
DTEND;TZID=America/Edmonton:20200430T120000
DTSTAMP:20260421T154252
CREATED:20200421T205156Z
LAST-MODIFIED:20200421T205156Z
UID:13900-1588244400-1588248000@demo.futurecite.ai
SUMMARY:Trust in Transactions: Security & Digital Currency Exchanges
DESCRIPTION:About this Event\n\n\nMajor security and privacy breaches in the world of digital currency exchanges have cost consumers hundreds of millions of dollars\, exposed sensitive information and eroded public trust. However\, this emerging branch of fintech is undergoing a necessary transformation towards safer and more trustworthy exchanges with enhanced cybersecurity and new regulatory oversight for laws like AML and KYC. As more people begin to explore the advantages of digital currencies\, its markets are becoming increasingly standardized\, compliant and secure. A panel of government advisors\, exchange owners and experts will explain how the sector is quickly evolving from the Wild West to something much more like Wall Street. \n 
URL:https://demo.futurecite.ai/event/trust-in-transactions-security-digital-currency-exchanges-2/
LOCATION:Virtual Online
CATEGORIES:BitCoin,Blockchain,Digital Transformation,Entrepreneurs,Governance,Regulatory,Webinar
END:VEVENT
BEGIN:VEVENT
DTSTART;TZID=America/Edmonton:20200430T100000
DTEND;TZID=America/Edmonton:20200430T110000
DTSTAMP:20260421T154252
CREATED:20200420T054444Z
LAST-MODIFIED:20200420T054444Z
UID:13899-1588240800-1588244400@demo.futurecite.ai
SUMMARY:Regulatory Approvals 101
DESCRIPTION:Regulatory Approvals 101\n\nConnect with us to discover how to stay up to date with the constantly shifting world of regulatory compliance\, and how to ensure you can stay one step ahead. \nCompliance requirements are an aspect of nearly all industries\, and as a small business you must comply with these regulations before you launch\, but how do you know where to look for this information? Market Now’s Latifa Mousli will lead this webinar to help you navigate this and determine and come up with a regulatory strategy \nThis webinar will cover: \n\nUnderstanding types of approvals\nDocumentation requirements\nUnderstanding product classification\nAnd Regulatory Strategy\n\nCome connect and discover how to develop your regulatory strategy and save yourself a considerable amount of time and money by supporting your entry into global markets from the beginning. \nRegister for free today! \nFacilitated by: Latifa Mousli\, Market Now \nPlease note: Our expert will address as many questions as possible\, but we cannot guarantee all questions will be answered. This webinar will not be recorded.
URL:https://demo.futurecite.ai/event/regulatory-approvals-101-2/
LOCATION:Online Call
CATEGORIES:Regulatory,Small Business,Webinar
END:VEVENT
BEGIN:VEVENT
DTSTART;TZID=America/Edmonton:20200430T100000
DTEND;TZID=America/Edmonton:20200430T110000
DTSTAMP:20260421T154252
CREATED:20200420T054444Z
LAST-MODIFIED:20200420T054444Z
UID:10316-1588240800-1588244400@demo.futurecite.ai
SUMMARY:Regulatory Approvals 101
DESCRIPTION:Regulatory Approvals 101\n\nConnect with us to discover how to stay up to date with the constantly shifting world of regulatory compliance\, and how to ensure you can stay one step ahead. \nCompliance requirements are an aspect of nearly all industries\, and as a small business you must comply with these regulations before you launch\, but how do you know where to look for this information? Market Now’s Latifa Mousli will lead this webinar to help you navigate this and determine and come up with a regulatory strategy \nThis webinar will cover: \n\nUnderstanding types of approvals\nDocumentation requirements\nUnderstanding product classification\nAnd Regulatory Strategy\n\nCome connect and discover how to develop your regulatory strategy and save yourself a considerable amount of time and money by supporting your entry into global markets from the beginning. \nRegister for free today! \nFacilitated by: Latifa Mousli\, Market Now \nPlease note: Our expert will address as many questions as possible\, but we cannot guarantee all questions will be answered. This webinar will not be recorded.
URL:https://demo.futurecite.ai/event/regulatory-approvals-101/
LOCATION:Online Call
CATEGORIES:Regulatory,Small Business,Webinar
END:VEVENT
END:VCALENDAR