BEGIN:VCALENDAR
VERSION:2.0
PRODID:-//FutureCite - ECPv6.15.20//NONSGML v1.0//EN
CALSCALE:GREGORIAN
METHOD:PUBLISH
X-ORIGINAL-URL:https://demo.futurecite.ai
X-WR-CALDESC:Events for FutureCite
REFRESH-INTERVAL;VALUE=DURATION:PT1H
X-Robots-Tag:noindex
X-PUBLISHED-TTL:PT1H
BEGIN:VTIMEZONE
TZID:America/Edmonton
BEGIN:DAYLIGHT
TZOFFSETFROM:-0700
TZOFFSETTO:-0600
TZNAME:MDT
DTSTART:20180311T090000
END:DAYLIGHT
BEGIN:STANDARD
TZOFFSETFROM:-0600
TZOFFSETTO:-0700
TZNAME:MST
DTSTART:20181104T080000
END:STANDARD
BEGIN:DAYLIGHT
TZOFFSETFROM:-0700
TZOFFSETTO:-0600
TZNAME:MDT
DTSTART:20190310T090000
END:DAYLIGHT
BEGIN:STANDARD
TZOFFSETFROM:-0600
TZOFFSETTO:-0700
TZNAME:MST
DTSTART:20191103T080000
END:STANDARD
BEGIN:DAYLIGHT
TZOFFSETFROM:-0700
TZOFFSETTO:-0600
TZNAME:MDT
DTSTART:20200308T090000
END:DAYLIGHT
BEGIN:STANDARD
TZOFFSETFROM:-0600
TZOFFSETTO:-0700
TZNAME:MST
DTSTART:20201101T080000
END:STANDARD
END:VTIMEZONE
BEGIN:VEVENT
DTSTART;TZID=America/Edmonton:20190919T080000
DTEND;TZID=America/Edmonton:20190922T170000
DTSTAMP:20260422T054149
CREATED:20190913T214719Z
LAST-MODIFIED:20190913T214719Z
UID:13778-1568880000-1569171600@demo.futurecite.ai
SUMMARY:University of Alberta Alumni Weekend
DESCRIPTION:Alumni Weekend\nCome back to campus\, reconnect with friends\, and be a part of the great things happening at the U of A.\nPlan Your Visit\nFind out all you need to know about visiting campus for Alumni Weekend — where to stay\, where to park\, where to eat\, how to buy official alumni merchandise and much more! \nLearn more \nWhat’s On?\nBrowse Events Listing \nSignature Events\n  \nThursday\, Sept. 19 \nAlumni Awards \nFriday\, Sept. 20 \nClass of ’69 Cap ’n’ Gown \nWhat Will Your Legacy Be? \nGolden Bears Hockey & Block Party \nSaturday\, Sept. 21 \nKids on Campus \nU of A in a Day \nRelax Damn It! Keynote Lecture by Timothy Caulfield \nGolden Grads Dinner \nSunday\, Sept. 22 \nAlumni Weekend Concert
URL:https://demo.futurecite.ai/event/university-of-alberta-alumni-weekend-2/
LOCATION:Univeristy of Alberta\, Edmonton\, Alberta\, Canada
CATEGORIES:AI / ML / Data Science,Conference,Digital Transformation,Education,Entrepreneurs,Human Talent,Industry,Innovation,Leadership,Learning,Networking,Research,Sustainability,Technology,The Arts
END:VEVENT
BEGIN:VEVENT
DTSTART;TZID=America/Edmonton:20190719T080000
DTEND;TZID=America/Edmonton:20190719T100000
DTSTAMP:20260422T054149
CREATED:20190712T015153Z
LAST-MODIFIED:20190712T015153Z
UID:13761-1563523200-1563530400@demo.futurecite.ai
SUMMARY:Pancake Breakfast and Business Event
DESCRIPTION:Join us as we celebrate K-Days and entrepreneurship with our 3rd Annual Pancake Breakfast!\nStop by Craft on your way to the K-Days parade to meet\, greet\, and eat with small business service providers dedicated to helping your business succeed. \nBreakfast is complimentary and we will be accepting donations for Suit Yourself\, a not for profit organization that strives to increase the confidence and self-esteem of disadvantaged women searching for employment or making a transition into the workforce through the collection and distribution of quality items. \nMonetary donations as well as new women’s toiletry items are welcome! Please contact Suit Yourself to schedule an appointment if you have clothing to donate. \nGive back and eat pancakes with our partners from… \nAMA \nATB Entrepreneur Centre \nBDC \nAlberta Women Entrepreneurs – AWE \nEdmonton Chamber of Commerce \nWork Nicer Coworking \nRoundhouse \nand our Business Link team! \nWe would also like to thank Acme Meat Market and of course the team at Craft Beer Market for helping us bring the event to downtown YEG this year! \nWe are thrilled that Martin Kerr will be joining us for breakfast this year. He will also be sharing some of his lively music while you enjoy your pancakes! \nBuilding his career from the streets\, one passer-by at a time\, Martin Kerr has been able to make a living as an independent musician for the last 10 years. Kerr is no stranger to taking his guitar\, along with his busking amp\, and setting up his CD store anywhere he could gather an audience. “To connect with people who left the house that morning not expecting to hear live music in the street\, for a song to stop them in their tracks on their way get groceries or run to the bank\, is a really special thing.” says Kerr. It has been these connections that have enabled him to build a fan base of loyal supporters who he refers to as more of a family.  \nBusiness in the front\, pancakes in the back on Rice Howard Way!
URL:https://demo.futurecite.ai/event/pancake-breakfast-and-business-event-2/
LOCATION:Craft Beer Market\, 10013 - 101A Avenue NW\, Edmonton\, Alberta\, AB T5J 0C3\, Canada
CATEGORIES:Entrepreneurs,Industry,Marketing,Media & Communications,Networking,Small Business,Social Innovation,Sustainability,Technology,The Arts
ATTACH;FMTTYPE=image/jpeg:https://demo.futurecite.ai/wp-content/uploads/2019/07/https___cdn.evbuc_.com_images_63006146_1855556606_1_original.jpg
END:VEVENT
BEGIN:VEVENT
DTSTART;TZID=America/Edmonton:20190719T080000
DTEND;TZID=America/Edmonton:20190719T100000
DTSTAMP:20260422T054149
CREATED:20190712T015153Z
LAST-MODIFIED:20190712T015154Z
UID:8297-1563523200-1563530400@demo.futurecite.ai
SUMMARY:Pancake Breakfast and Business Event
DESCRIPTION:Join us as we celebrate K-Days and entrepreneurship with our 3rd Annual Pancake Breakfast!\nStop by Craft on your way to the K-Days parade to meet\, greet\, and eat with small business service providers dedicated to helping your business succeed. \nBreakfast is complimentary and we will be accepting donations for Suit Yourself\, a not for profit organization that strives to increase the confidence and self-esteem of disadvantaged women searching for employment or making a transition into the workforce through the collection and distribution of quality items. \nMonetary donations as well as new women’s toiletry items are welcome! Please contact Suit Yourself to schedule an appointment if you have clothing to donate. \nGive back and eat pancakes with our partners from… \nAMA \nATB Entrepreneur Centre \nBDC \nAlberta Women Entrepreneurs – AWE \nEdmonton Chamber of Commerce \nWork Nicer Coworking \nRoundhouse \nand our Business Link team! \nWe would also like to thank Acme Meat Market and of course the team at Craft Beer Market for helping us bring the event to downtown YEG this year! \nWe are thrilled that Martin Kerr will be joining us for breakfast this year. He will also be sharing some of his lively music while you enjoy your pancakes! \nBuilding his career from the streets\, one passer-by at a time\, Martin Kerr has been able to make a living as an independent musician for the last 10 years. Kerr is no stranger to taking his guitar\, along with his busking amp\, and setting up his CD store anywhere he could gather an audience. “To connect with people who left the house that morning not expecting to hear live music in the street\, for a song to stop them in their tracks on their way get groceries or run to the bank\, is a really special thing.” says Kerr. It has been these connections that have enabled him to build a fan base of loyal supporters who he refers to as more of a family.  \nBusiness in the front\, pancakes in the back on Rice Howard Way!
URL:https://demo.futurecite.ai/event/pancake-breakfast-and-business-event/
LOCATION:Craft Beer Market\, 10013 - 101A Avenue NW\, Edmonton\, Alberta\, AB T5J 0C3\, Canada
CATEGORIES:Entrepreneurs,Industry,Marketing,Media & Communications,Networking,Small Business,Social Innovation,Sustainability,Technology,The Arts
ATTACH;FMTTYPE=image/jpeg:https://demo.futurecite.ai/wp-content/uploads/2019/07/https___cdn.evbuc_.com_images_63006146_1855556606_1_original.jpg
END:VEVENT
BEGIN:VEVENT
DTSTART;TZID=America/Edmonton:20190717T100000
DTEND;TZID=America/Edmonton:20190717T160000
DTSTAMP:20260422T054149
CREATED:20190712T013934Z
LAST-MODIFIED:20190712T013934Z
UID:13760-1563357600-1563379200@demo.futurecite.ai
SUMMARY:Dive Into Design Thinking - MeetUP
DESCRIPTION:Get ready to roll up your sleeves and dive into design thinking\, a process used to solve real-world problems with a human centered focus. Jason Eliuk and Lindsay Adrian\, consultants with Edmonton Public Schools’ Career Pathways unit\, will introduce you to the process through a hands-on experience. You will learn techniques including empathizing with users\, identifying point of view\, thinking divergently\, prototyping and testing solutions.Please note that on Wednesday\, July 17 – there will be an opportunity to hang out at the centre for a working session with the facilitators. The time will be offered on an as per needed basis – mark it in your calendar just in case!About your Facilitators:Lindsay Adrian and Jason Eliuk\, both trained classroom teachers\, work with Edmonton Public Schools’ Career Pathways unit. They work with schools to find innovative ways for students to explore future possibilities. Utilizing the training they received at Stanford University\, Lindsay and Jason work to bring students and community members together to solve problems.
URL:https://demo.futurecite.ai/event/dive-into-design-thinking-meetup-2/
LOCATION:ATB Entrepreneur Centre YEG\, 4234 Calgary Trail NW\,\, Edmonton\, Alberta\, T6J 6Y8\, Canada
CATEGORIES:Education,Entrepreneurs,Human Talent,Industry,Innovation,Leadership,Living,Networking,Small Business,Technology,The Arts
END:VEVENT
BEGIN:VEVENT
DTSTART;TZID=America/Edmonton:20190717T100000
DTEND;TZID=America/Edmonton:20190717T160000
DTSTAMP:20260422T054149
CREATED:20190712T013934Z
LAST-MODIFIED:20190712T013934Z
UID:8295-1563357600-1563379200@demo.futurecite.ai
SUMMARY:Dive Into Design Thinking - MeetUP
DESCRIPTION:Get ready to roll up your sleeves and dive into design thinking\, a process used to solve real-world problems with a human centered focus. Jason Eliuk and Lindsay Adrian\, consultants with Edmonton Public Schools’ Career Pathways unit\, will introduce you to the process through a hands-on experience. You will learn techniques including empathizing with users\, identifying point of view\, thinking divergently\, prototyping and testing solutions.Please note that on Wednesday\, July 17 – there will be an opportunity to hang out at the centre for a working session with the facilitators. The time will be offered on an as per needed basis – mark it in your calendar just in case!About your Facilitators:Lindsay Adrian and Jason Eliuk\, both trained classroom teachers\, work with Edmonton Public Schools’ Career Pathways unit. They work with schools to find innovative ways for students to explore future possibilities. Utilizing the training they received at Stanford University\, Lindsay and Jason work to bring students and community members together to solve problems.
URL:https://demo.futurecite.ai/event/dive-into-design-thinking-meetup/
LOCATION:ATB Entrepreneur Centre YEG\, 4234 Calgary Trail NW\,\, Edmonton\, Alberta\, T6J 6Y8\, Canada
CATEGORIES:Education,Entrepreneurs,Human Talent,Industry,Innovation,Leadership,Living,Networking,Small Business,Technology,The Arts
END:VEVENT
BEGIN:VEVENT
DTSTART;TZID=America/Edmonton:20190614T180000
DTEND;TZID=America/Edmonton:20190614T233000
DTSTAMP:20260422T054149
CREATED:20190603T042259Z
LAST-MODIFIED:20190603T042259Z
UID:13736-1560535200-1560555000@demo.futurecite.ai
SUMMARY:The Works Summer Solstice Gala
DESCRIPTION:The Works Summer Solstice Gala is an unforgettable evening of entertainment and fine fare that will launch the 34th annual The Works Art & Design Festival and Edmonton’s summer season! \nThe Festival has seen over 8.65 million visitors to over 1\,583 exhibits and 918 festival sites\, featuring 36\,000 artworks. The Gala also celebrates the success of The Places – Art & Design in Public Places Program. Since its inception in 1999\, The Places has produced over 7The 6 Public Art & Design Projects throughout downtown and other neighbourhoods – raising over 9.7 million dollars in cash and in-kind contributions. \nYour presence supports Council Scholarships and Art Internships at The Works\, awarded to advance the development of Edmonton’s talented visual art and design students. With over 300 Internships and Scholarships awarded\, these students in turn become key members of the cultural workforce\, enriching our communities. \nTICKETS \n$150 EACH or $1500 for 10 to receive a Signature High Top Table \nEach ticket is eligible for a $75 charitable tax receipt \nFEATURING \nHost Cocktail Reception \nFood is Art Dinner Experience \nSilent Auction \nLive Art Performances \nDancing
URL:https://demo.futurecite.ai/event/the-works-summer-solstice-gala-2/
LOCATION:Fairmont Hotel MacDonald\, 10065 100 Street Northwest\, Edmonton\, Alberta\, Canada
CATEGORIES:Design,Innovation,LifeStyle,Networking,The Arts
END:VEVENT
BEGIN:VEVENT
DTSTART;TZID=America/Edmonton:20190614T180000
DTEND;TZID=America/Edmonton:20190614T233000
DTSTAMP:20260422T054149
CREATED:20190603T042259Z
LAST-MODIFIED:20190603T042259Z
UID:8052-1560535200-1560555000@demo.futurecite.ai
SUMMARY:The Works Summer Solstice Gala
DESCRIPTION:The Works Summer Solstice Gala is an unforgettable evening of entertainment and fine fare that will launch the 34th annual The Works Art & Design Festival and Edmonton’s summer season! \nThe Festival has seen over 8.65 million visitors to over 1\,583 exhibits and 918 festival sites\, featuring 36\,000 artworks. The Gala also celebrates the success of The Places – Art & Design in Public Places Program. Since its inception in 1999\, The Places has produced over 7The 6 Public Art & Design Projects throughout downtown and other neighbourhoods – raising over 9.7 million dollars in cash and in-kind contributions. \nYour presence supports Council Scholarships and Art Internships at The Works\, awarded to advance the development of Edmonton’s talented visual art and design students. With over 300 Internships and Scholarships awarded\, these students in turn become key members of the cultural workforce\, enriching our communities. \nTICKETS \n$150 EACH or $1500 for 10 to receive a Signature High Top Table \nEach ticket is eligible for a $75 charitable tax receipt \nFEATURING \nHost Cocktail Reception \nFood is Art Dinner Experience \nSilent Auction \nLive Art Performances \nDancing
URL:https://demo.futurecite.ai/event/the-works-summer-solstice-gala/
LOCATION:Fairmont Hotel MacDonald\, 10065 100 Street Northwest\, Edmonton\, Alberta\, Canada
CATEGORIES:Design,Innovation,LifeStyle,Networking,The Arts
END:VEVENT
END:VCALENDAR